BEGIN:VCALENDAR
VERSION:2.0
PRODID:-//Black Foodie Finder - Hey Foodies - ECPv6.15.20//NONSGML v1.0//EN
CALSCALE:GREGORIAN
METHOD:PUBLISH
X-WR-CALNAME:Black Foodie Finder - Hey Foodies
X-ORIGINAL-URL:https://blackfoodie.com
X-WR-CALDESC:Events for Black Foodie Finder - Hey Foodies
REFRESH-INTERVAL;VALUE=DURATION:PT1H
X-Robots-Tag:noindex
X-PUBLISHED-TTL:PT1H
BEGIN:VTIMEZONE
TZID:UTC
BEGIN:STANDARD
TZOFFSETFROM:+0000
TZOFFSETTO:+0000
TZNAME:UTC
DTSTART:20230101T000000
END:STANDARD
END:VTIMEZONE
BEGIN:VEVENT
DTSTART;VALUE=DATE:20240615
DTEND;VALUE=DATE:20240616
DTSTAMP:20260423T231849
CREATED:20240112T053627Z
LAST-MODIFIED:20240112T053627Z
UID:11578477643009-1718409600-1718495999@blackfoodie.com
SUMMARY:National Lobster Day
DESCRIPTION:National Lobster Day is a great day to celebrate the delicious goodness of our favorite creepy crustacean\, learn more about its life and honor the fishermen who help to bring the creature to our dinner plates. \nOrigin: Maine senators passed a bill in 2014 that established a holiday recognizing lobster’s place in American history and culture with National Lobster Day on September 25th!
URL:https://blackfoodie.com/event/national-lobster-day/
CATEGORIES:June
END:VEVENT
BEGIN:VEVENT
DTSTART;VALUE=DATE:20240612
DTEND;VALUE=DATE:20240613
DTSTAMP:20260423T231849
CREATED:20240112T053104Z
LAST-MODIFIED:20240112T053104Z
UID:11578477643007-1718150400-1718236799@blackfoodie.com
SUMMARY:International Falafel Day
DESCRIPTION:On the 12th of June each year\, it is time to celebrate one of the world’s favorite chickpea treats with International Falafel Day! A favorite among meat-eaters and vegetarians alike (the latter of whom will often find it presented as an alternative to meat)\, falafel is one food that certainly deserves its own day of recognition.Calling all fans of falafel! Deep-fried and composed of chickpeas or fava beans\, this Middle Eastern food is often found wrapped up in a pita bread\, or served with salad and sauces. No matter how this dish is served\, falafel is a bit crunchy on the outside\, soft on the inside and absolutely delicious in every way! \nOrigin: For the most part\, many people agree that it was first eaten widely in Egypt\, when Copitc Christians may have then used the dish as a replacement for meat during Lent (the season before Easter when Christians have traditionally fasted from eating meat).
URL:https://blackfoodie.com/event/international-falafel-day/
CATEGORIES:June
END:VEVENT
BEGIN:VEVENT
DTSTART;VALUE=DATE:20240607
DTEND;VALUE=DATE:20240608
DTSTAMP:20260423T231849
CREATED:20240112T052818Z
LAST-MODIFIED:20240112T052818Z
UID:11578477643005-1717718400-1717804799@blackfoodie.com
SUMMARY:National Ice Cream Day
DESCRIPTION:What is National Ice Cream Day? National Ice Cream Day is a day to celebrate one of our favorite desserts. According to President Ronald Reagan who issued the Presidential Proclamation for this day\, “ice cream is a nutritious and wholesome food\, enjoyed by over ninety percent of the people in the United States. \nOrigin: In 1984\, Senator Walter Dee Huddleston of Kentucky sponsored a bill to designate July 15\, 1984 as National Ice Cream Day. The bill was passed by the Senate on May 17\, 1984 and signed by President Ronald Reagan on July 2\, 1984. The bill also designated July 1984 as National Ice Cream Month.
URL:https://blackfoodie.com/event/national-ice-cream-day/
CATEGORIES:June
END:VEVENT
BEGIN:VEVENT
DTSTART;VALUE=DATE:20240604
DTEND;VALUE=DATE:20240605
DTSTAMP:20260423T231849
CREATED:20240112T052545Z
LAST-MODIFIED:20240112T052545Z
UID:11578477643003-1717459200-1717545599@blackfoodie.com
SUMMARY:National Cheese Day
DESCRIPTION:June 4 is National Cheese Day. Not to be confused with other popular cheese related holidays like grilled cheese day\, cheesecake day\, or mac and cheese day. This day is in reverence of the queen of all dairy\, the big cheese. \nOrigin: The day was first established in 1914\, with the origins being traced to Monroe\, Wisconsin in the United States. For more than 100 years\, this day has been celebrated biennially (every other year) and there are a ton of different festivities that go on during this event in Monroe\, WI.
URL:https://blackfoodie.com/event/national-cheese-day/
CATEGORIES:June
END:VEVENT
BEGIN:VEVENT
DTSTART;VALUE=DATE:20240602
DTEND;VALUE=DATE:20240603
DTSTAMP:20260423T231849
CREATED:20240112T052436Z
LAST-MODIFIED:20240112T052436Z
UID:11578477643001-1717286400-1717372799@blackfoodie.com
SUMMARY:National Rotisserie Chicken Day
DESCRIPTION:Origin: Boston Market Restaurants founded National Rotisserie Chicken Day in April of 2015 to celebrate the delicious and tender flavor achieved through slow-cooked rotisserie chicken.
URL:https://blackfoodie.com/event/national-rotisserie-chicken-day/
CATEGORIES:June
END:VEVENT
BEGIN:VEVENT
DTSTART;VALUE=DATE:20240530
DTEND;VALUE=DATE:20240531
DTSTAMP:20260423T231849
CREATED:20240112T052039Z
LAST-MODIFIED:20240112T052039Z
UID:11578477642999-1717027200-1717113599@blackfoodie.com
SUMMARY:National Mint Julep Day
DESCRIPTION:May 30 is National Mint Julep Day. Mint julep is the best refreshing summer drink\, made of water\, sugar\, Bourbon and spearmint. \nOrigin: This drink was introduced at the Kentucky Derby in the 1930s and since then it has become the event’s official drink. 
URL:https://blackfoodie.com/event/national-mint-julep-day/
CATEGORIES:May
END:VEVENT
BEGIN:VEVENT
DTSTART;VALUE=DATE:20240528
DTEND;VALUE=DATE:20240529
DTSTAMP:20260423T231849
CREATED:20240112T051838Z
LAST-MODIFIED:20240112T051838Z
UID:11578477642995-1716854400-1716940799@blackfoodie.com
SUMMARY:National Brisket Day
DESCRIPTION:Every year on May 28th\, National Brisket Day celebrates one of the nine prime cuts of beef. Brisket comes from the breast or lower chest of beef or veal and when prepared correctly\, renders both flavor and tenderness. \nOrigin: The exact origins of National Brisket Day are unknown. However\, it has been celebrated since the early 2000s.
URL:https://blackfoodie.com/event/national-brisket-day/
CATEGORIES:May
END:VEVENT
BEGIN:VEVENT
DTSTART;VALUE=DATE:20240525
DTEND;VALUE=DATE:20240526
DTSTAMP:20260423T231849
CREATED:20240112T051638Z
LAST-MODIFIED:20240112T051638Z
UID:11578477642989-1716595200-1716681599@blackfoodie.com
SUMMARY:National Wine Day
DESCRIPTION:On May 25th each year\, wine lovers everywhere pour a glass of their favorite wine to celebrate National Wine Day. Whether it is Red or White\, the sound of glassing “clinking” will be heard around the world today. \nOrigin: The exact origin of National Wine Day is unknown\, but the earliest references date back to 2009. It is a day for wine enthusiasts to unite and celebrate our favorite fermented fruit juice.
URL:https://blackfoodie.com/event/national-wine-day/
CATEGORIES:May
END:VEVENT
BEGIN:VEVENT
DTSTART;VALUE=DATE:20240514
DTEND;VALUE=DATE:20240515
DTSTAMP:20260423T231849
CREATED:20240112T051530Z
LAST-MODIFIED:20240112T051530Z
UID:11578477642986-1715644800-1715731199@blackfoodie.com
SUMMARY:National Buttermilk Biscuit Day
DESCRIPTION:May 14th ushers in National Buttermilk Biscuit Day to celebrate this high-rising breakfast staple. \nOrigin: Biscuits are made using baking powder or baking soda as a leavening agent rather than yeast. A typicalbuttermilk biscuit recipe contains flour\, baking powder\, baking soda\, salt\, butter\, and buttermilk. They are often referred to as a “quick bread\,” indicating they do not need time to rise before baking. While being made\, the dough is beaten and folded to incorporate air\, which expands while baking\, causing the biscuit to rise. Supermarkets offer canned biscuits that are refrigerated until ready to be baked. In 1931\, Ballard and Ballard patented these refrigerator biscuits.
URL:https://blackfoodie.com/event/national-buttermilk-biscuit-day/
CATEGORIES:May
END:VEVENT
BEGIN:VEVENT
DTSTART;VALUE=DATE:20240513
DTEND;VALUE=DATE:20240514
DTSTAMP:20260423T231849
CREATED:20240112T051400Z
LAST-MODIFIED:20240112T051400Z
UID:11578477642984-1715558400-1715644799@blackfoodie.com
SUMMARY:National Hummus Day
DESCRIPTION:International Hummus Day is celebrated on May 13th every year. The day was established in 2012 and is a day to celebrate hummus\, a creamy\, garlicky\, nutty-tasting dip. It’s also a day to raise awareness for hummus as a cross-cultural phenomenon. \nOrigin: International Hummus Day is celebrated on May 13th. In 2012\, Ben Lang and Miriam Young\, co-founders of Innovation Israel\, established International Hummus Day.
URL:https://blackfoodie.com/event/national-hummus-day/
CATEGORIES:May
END:VEVENT
BEGIN:VEVENT
DTSTART;VALUE=DATE:20240509
DTEND;VALUE=DATE:20240510
DTSTAMP:20260423T231849
CREATED:20240112T051119Z
LAST-MODIFIED:20240112T051119Z
UID:11578477642979-1715212800-1715299199@blackfoodie.com
SUMMARY:National Shrimp Day
DESCRIPTION:Each year on May 10th\, National Shrimp Day recognizes America’s favorite seafood. Americans eat moreshrimp than any other seafood\, and this is the day to celebrate this delicious seafood. \nOrigin: National Shrimp Day is celebrated annually on May 10th. It originated in the late 19th or early 20th century\, when Italian settlers in California began fishing for shrimp in the San Francisco Bay.
URL:https://blackfoodie.com/event/national-shrimp-day/
CATEGORIES:May
END:VEVENT
BEGIN:VEVENT
DTSTART;VALUE=DATE:20240424
DTEND;VALUE=DATE:20240425
DTSTAMP:20260423T231849
CREATED:20240111T062420Z
LAST-MODIFIED:20240111T062420Z
UID:11578477642973-1713916800-1714003199@blackfoodie.com
SUMMARY:National Prime Rib Day
DESCRIPTION:National Prime Rib Day annually recognizes this special meal favorite on April 27th each year. Sometimes known as the “King of Meats\,” Prime Rib is a choice cut from one of the eight prime cuts of beef. \nOrigins: The exact origin of prime rib is unclear\, but most historians agree that roasts became popular in the United Kingdom\, Australia\, Ireland\, New Zealand\, the United States\, and Canada during the Industrial Revolution.
URL:https://blackfoodie.com/event/national-prime-rib-day/
CATEGORIES:April
END:VEVENT
BEGIN:VEVENT
DTSTART;VALUE=DATE:20240417
DTEND;VALUE=DATE:20240418
DTSTAMP:20260423T231849
CREATED:20240111T062229Z
LAST-MODIFIED:20240111T062229Z
UID:11578477642971-1713312000-1713398399@blackfoodie.com
SUMMARY:World Malbec Day
DESCRIPTION:World Malbec Day is celebrated on April 17th each year. It commemorates the day in 1853 when then-president Domingo Faustino Sarmiento of Argentina made it his mission to transform the country’s wine industry. \nOrigins: World Malbec Day is celebrated on April 17th each year. It commemorates the day in 1853 when then-president Domingo Faustino Sarmiento of Argentina made it his mission to transform the country’s wine industry.
URL:https://blackfoodie.com/event/world-malbec-day/
CATEGORIES:April
END:VEVENT
BEGIN:VEVENT
DTSTART;VALUE=DATE:20240416
DTEND;VALUE=DATE:20240417
DTSTAMP:20260423T231849
CREATED:20240111T061642Z
LAST-MODIFIED:20240111T061642Z
UID:11578477642969-1713225600-1713311999@blackfoodie.com
SUMMARY:National Eggs Benedict Day
DESCRIPTION:On April 16th\, National Eggs Benedict Day celebrates a long-favored breakfast or brunch dish. Eggs Benedict consists of poached eggs with Hollandaise sauce and Canadian bacon or ham on English muffin halves. \nOrigins: There are two different stories as to how Eggs Benedict came to be. In 1894 stockbroker Lemuel Benedict ordered “buttered toast\, poached eggs\, crisp bacon\, and a side of Hollandaise” at the Waldorf Hotel. They were so impressed with the dish that they put it on the menu\, substituting ham and English muffins in place of the bacon and toast. In the early 18th century\, Pope Benedict XIII liked an egg dish so much that he requested it time and time again. Many believe that Pope Benedict XIII had an illness that added to his desire for this particular egg dish\, hence the name Eggs Benedict.
URL:https://blackfoodie.com/event/national-eggs-benedict-day/
CATEGORIES:April
END:VEVENT
BEGIN:VEVENT
DTSTART;VALUE=DATE:20240412
DTEND;VALUE=DATE:20240413
DTSTAMP:20260423T231849
CREATED:20240111T061509Z
LAST-MODIFIED:20240111T061509Z
UID:11578477642967-1712880000-1712966399@blackfoodie.com
SUMMARY:National Grilled Cheese Day
DESCRIPTION:National Grilled Cheese Day is a light-hearted holiday designed to give Americans time to enjoy their favorite comfort food. The grilled cheese sandwich is a simple American lunch delicacy that requires a stove\, butter\, two slices of bread\, and cheese. \nOrigins: According to food historians\, many cultures around the world have enjoyed cooked bread and cheese since ancient times. The United States modern version of the grilled cheese sandwich originated in the 1920s. As sliced bread and American cheese became easily available\, Americans began making open-faced grilled cheese sandwiches.
URL:https://blackfoodie.com/event/national-grilled-cheese-day/
CATEGORIES:April
END:VEVENT
BEGIN:VEVENT
DTSTART;VALUE=DATE:20240408
DTEND;VALUE=DATE:20240409
DTSTAMP:20260423T231849
CREATED:20240111T061313Z
LAST-MODIFIED:20240111T061313Z
UID:11578477642963-1712534400-1712620799@blackfoodie.com
SUMMARY:National Empanada Day
DESCRIPTION:Each year on April 8th\, National Empanada Day recognizes a delicious pastry that comes in several different forms. The name empanada comes from the Galician\, Portuguese and Spanish verb em pandar\, meaning to wrap or coat in bread. \nOrigins: The dish is also popular in Latin American and southern European countries. The exact origins of empanadas are linked to Portugal and Galicia (Spain.) The pastry made its first appearance during the Moorish invasions in Medieval Iberia.
URL:https://blackfoodie.com/event/national-empanada-day/
CATEGORIES:April
END:VEVENT
BEGIN:VEVENT
DTSTART;VALUE=DATE:20240407
DTEND;VALUE=DATE:20240408
DTSTAMP:20260423T231849
CREATED:20240111T061159Z
LAST-MODIFIED:20240111T061159Z
UID:11578477642961-1712448000-1712534399@blackfoodie.com
SUMMARY:National Beer Day
DESCRIPTION:National Beer Day on April 7th annually\, recognizes the world’s most widely consumed alcoholic beverage. Following water and tea\, it is the third most popular drink overall. \nOrigins: On April 7\, 1933\, President Franklin Roosevelt took the first step toward ending Prohibition and signed a law that allowed people to brew and sell beer\, in the United States\, as long as it remained below 4.0% alcohol by volume (ABV). Beer drinkers celebrated and were happy to be able to purchase beer again for the first time in thirteen years
URL:https://blackfoodie.com/event/national-beer-day/
CATEGORIES:April
END:VEVENT
BEGIN:VEVENT
DTSTART;VALUE=DATE:20240406
DTEND;VALUE=DATE:20240407
DTSTAMP:20260423T231849
CREATED:20240111T060956Z
LAST-MODIFIED:20240111T061045Z
UID:11578477642959-1712361600-1712447999@blackfoodie.com
SUMMARY:National Carbonara Day
DESCRIPTION:National Carbonara Day is a day that invites food and Carbonara lovers alike to celebrate the classic Italian pasta dish made with egg\, Pecorino Romano cheese\, guanciale or pancetta\, and freshly ground black pepper. \nOrigins: The name “carbonara” means “charcoal burner” and the dish is said to have originated in Rome’s Lazio region as a meal for coal miners. A basic version of the dish is pasta with bacon\, cheese\, and pepper\, and is part of the pasta alla gricia family of dishes.
URL:https://blackfoodie.com/event/national-carbonara-day/
CATEGORIES:April
END:VEVENT
BEGIN:VEVENT
DTSTART;VALUE=DATE:20240327
DTEND;VALUE=DATE:20240328
DTSTAMP:20260423T231849
CREATED:20240111T060517Z
LAST-MODIFIED:20240111T060517Z
UID:11578477642957-1711497600-1711583999@blackfoodie.com
SUMMARY:World Whiskey Day
DESCRIPTION:World Whisky Day is an annual\, global day of whisky\, which invites everyone to try a dram and celebrate the water of life. Taking place annually on the third Saturday in May\, this special occasion is celebrated by whisky lovers worldwide with tastings\, events and gatherings. \nOrigins: The first World Whisky Day was celebrated in March 2012\, years after International Whiskey Day was announced. It was established by Blair Bowman\, a 21-year-old whiskey enthusiast who was a student at the University of Aberdeen when he founded the day
URL:https://blackfoodie.com/event/world-whiskey-day/
CATEGORIES:March
END:VEVENT
BEGIN:VEVENT
DTSTART;VALUE=DATE:20240325
DTEND;VALUE=DATE:20240326
DTSTAMP:20260423T231849
CREATED:20240111T060308Z
LAST-MODIFIED:20240111T060308Z
UID:11578477642955-1711324800-1711411199@blackfoodie.com
SUMMARY:National Waffle Day
DESCRIPTION:In the United States\, National Waffle Day is celebrated in August to commemorate the date of a U.S. patent on a waffle iron; however the celebration is described as “at best a ‘bizarre’ or ‘unique’ holiday – the fluff stuff of radio DJ commentary”\, a frequent criticism of food celebration days. \nOrigins: National Waffle Day is celebrated on August 24th because that’s the anniversary of the patent for the first waffle iron in the United States. Cornelius Swarthout of Troy\, New York\, was issued the patent on August 24\, 1869. While waffles have been around for a long time\, Swarthout’s invention made them more accessible.
URL:https://blackfoodie.com/event/national-waffle-day/
CATEGORIES:March
END:VEVENT
BEGIN:VEVENT
DTSTART;VALUE=DATE:20240324
DTEND;VALUE=DATE:20240325
DTSTAMP:20260423T231849
CREATED:20240111T055831Z
LAST-MODIFIED:20240111T055831Z
UID:11578477642953-1711238400-1711324799@blackfoodie.com
SUMMARY:National Cheesecake Day
DESCRIPTION:National Cheesecake Day is celebrated on July 30th. It’s a day to celebrate the rich dessert cake made with cream cheese\, eggs\, sugar\, vanilla\, and a graham cracker crust. Cheesecakes are typically topped with fruit sauce. \nOrigins: National Cheesecake Day is celebrated on July 30th. Patti Jewel established the day in 1985 after tasting New York-style cheesecake and visiting New York.
URL:https://blackfoodie.com/event/national-cheesecake-day/
CATEGORIES:March
END:VEVENT
BEGIN:VEVENT
DTSTART;VALUE=DATE:20240323
DTEND;VALUE=DATE:20240324
DTSTAMP:20260423T231849
CREATED:20240111T055626Z
LAST-MODIFIED:20240111T055626Z
UID:11578477642951-1711152000-1711238399@blackfoodie.com
SUMMARY:National Chip and Dip Day
DESCRIPTION:On March 23rd\, it is a National Day just for the chip and dip! National Chip And Dip Day celebrates a perfect combination loved by many across the country. Chips and dip are a quick and easy party dish that also makes for great parties. \nOrigins: The first dips\, hummus and olive oil\, originated in the Middle East and the Mediterranean Sea region. Chips and dip have been a popular pairing for over 50 years\, and gained popularity in the United States in the 1950s. This was in part due to a Lipton advertising campaign for their French onion dip recipe\, also known as “California dip”.
URL:https://blackfoodie.com/event/national-chip-and-dip-day/
CATEGORIES:March
END:VEVENT
BEGIN:VEVENT
DTSTART;VALUE=DATE:20240316
DTEND;VALUE=DATE:20240317
DTSTAMP:20260423T231849
CREATED:20240111T055503Z
LAST-MODIFIED:20240111T055503Z
UID:11578477642948-1710547200-1710633599@blackfoodie.com
SUMMARY:National Artichoke Day
DESCRIPTION:U.S. March 16 is National Artichoke Day\, a day to celebrate and chow down on these nutritious\, delicious plants. Artichokes are from the Mediterranean and are one of the oldest foods in the world — the Greeks and Romans ate them in the 8th century! \nOrigins: National Artichoke Day is celebrated on March 16th. The Artichoke Festival\, which celebrates artichokes\, takes place in Castroville\, California\, on the first or second weekend of June each year.
URL:https://blackfoodie.com/event/national-artichoke-day/
CATEGORIES:March
END:VEVENT
BEGIN:VEVENT
DTSTART;VALUE=DATE:20240313
DTEND;VALUE=DATE:20240314
DTSTAMP:20260423T231849
CREATED:20240111T055026Z
LAST-MODIFIED:20240111T055026Z
UID:11578477642946-1710288000-1710374399@blackfoodie.com
SUMMARY:National Chicken Soup Day
DESCRIPTION:National Chicken Soup for the Soul Day is celebrated annually on November 12th. The day is a way to reflect on emotional issues and find inspiration for a more fulfilling life. It’s also a day to celebrate who you are\, where you’ve been\, and who you’ll be thankful to.  \nOrigins: National Chicken Soup for the Soul Day is actually a media\, consumer good\, and self-help business that is situated in Connecticut’s Cos Cob area. The brand is familiar thanks to its series of books entitled Chicken Soup for the Soul. The first book follows inspirational stories about ordinary people. In the early 1990s\, motivational speakers Mark Victor Hansen and Jack Canfield founded Chicken Soup for the Soul Publishing in Cos Cob\, Connecticut. The publisher and consumer goods company began publishing in 1993.
URL:https://blackfoodie.com/event/national-chicken-soup-day/
CATEGORIES:March
END:VEVENT
BEGIN:VEVENT
DTSTART;VALUE=DATE:20240308
DTEND;VALUE=DATE:20240309
DTSTAMP:20260423T231849
CREATED:20240111T054636Z
LAST-MODIFIED:20240111T054636Z
UID:11578477642944-1709856000-1709942399@blackfoodie.com
SUMMARY:International Women's Day
DESCRIPTION:International Women’s Day is celebrated in many countries around the world. It is a day when women are recognized for their achievements without regard to divisions\, whether national\, ethnic\, linguistic\, cultural\, economic or political. \nOrigins: It began in New York City on March 8\, 1857\, when female textile workers marched in protest of unfair working conditions and unequal rights for women.
URL:https://blackfoodie.com/event/international-womens-day/
CATEGORIES:March
END:VEVENT
BEGIN:VEVENT
DTSTART;VALUE=DATE:20240304
DTEND;VALUE=DATE:20240305
DTSTAMP:20260423T231849
CREATED:20240111T054453Z
LAST-MODIFIED:20240111T054453Z
UID:11578477642942-1709510400-1709596799@blackfoodie.com
SUMMARY:National Pound Cake Day
DESCRIPTION:National Pound Cake Day is celebrated annually on March 4. The day is a celebration of the cake’s long history and encourages people to bake pound cakes for their loved ones.  \nOrigins: It is believed that the pound cake is of northern European origin and dates back to the early 18th century. A recipe for pound cake appears in The Art of Cookery by Hannah Glasse\, published in 1747. The first U.S. cookbook\, American Cookery\, published in 1796\, has a recipe for pound cake.
URL:https://blackfoodie.com/event/national-pound-cake-day/
CATEGORIES:March
END:VEVENT
BEGIN:VEVENT
DTSTART;VALUE=DATE:20240229
DTEND;VALUE=DATE:20240301
DTSTAMP:20260423T231849
CREATED:20240129T112452Z
LAST-MODIFIED:20240129T112452Z
UID:11578477643354-1709164800-1709251199@blackfoodie.com
SUMMARY:Surf and Turf Day
DESCRIPTION:
URL:https://blackfoodie.com/event/surf-and-turf-day/
CATEGORIES:February
END:VEVENT
BEGIN:VEVENT
DTSTART;VALUE=DATE:20240229
DTEND;VALUE=DATE:20240301
DTSTAMP:20260423T231849
CREATED:20240129T112411Z
LAST-MODIFIED:20240129T112411Z
UID:11578477643352-1709164800-1709251199@blackfoodie.com
SUMMARY:National Chili Day
DESCRIPTION:National Chili Day is celebrated on the fourth Thursday of February. It honors the American dish of chili\, also known as chili con carne. The day was created in 2006 by Rich Kelly\, the owner of Hard Times Cafe\, a chili parlor in Alexandria\, Virginia. \nThis claim is supported by the fact that the first-ever written reference to chili occurred in the city of San Antonio\, Texas in 1828. This is just one of the many delicious varieties of food that fall into the category of Tex-Mex.
URL:https://blackfoodie.com/event/national-chili-day/
CATEGORIES:February
END:VEVENT
BEGIN:VEVENT
DTSTART;VALUE=DATE:20240228
DTEND;VALUE=DATE:20240229
DTSTAMP:20260423T231849
CREATED:20240129T112319Z
LAST-MODIFIED:20240129T112319Z
UID:11578477643349-1709078400-1709164799@blackfoodie.com
SUMMARY:National Chocolate Souffle Day
DESCRIPTION:Though cheese soufflés may be the better-known variety\, people who have a sweet tooth are perhaps more likely to prefer a chocolate soufflé instead. And\, with that in mind\, it’s time to celebrate and enjoy everything to do with this delicious dessert\, because it’s time for National Chocolate Souffle Day! \nLe Récamier in Paris\, France. Moving back to where the soufflé originated\, this cafe that is considered one of the best in Paris is famous for its mouthwatering dishes including the cheese and chocolate soufflés.
URL:https://blackfoodie.com/event/national-chocolate-souffle-day/
CATEGORIES:February
END:VEVENT
BEGIN:VEVENT
DTSTART;VALUE=DATE:20240228
DTEND;VALUE=DATE:20240229
DTSTAMP:20260423T231849
CREATED:20240111T054328Z
LAST-MODIFIED:20240111T054328Z
UID:11578477642939-1709078400-1709164799@blackfoodie.com
SUMMARY:National Chilli Day
DESCRIPTION:National Chili Day on the fourth Thursday in February honors one of America’s favorite winter dishes–chili. It’s also known as chili con carne (chili with meat). \nOrigins: National Chili Day is celebrated on the fourth Thursday in February. It was founded by Rich Kelly of Hard Times Cafe in Arlington\, VA\, and has been celebrated since at least 2006.
URL:https://blackfoodie.com/event/national-chilli-day/
CATEGORIES:February
END:VEVENT
END:VCALENDAR