BEGIN:VCALENDAR
VERSION:2.0
PRODID:-//Black Foodie Finder - Hey Foodies - ECPv6.15.20//NONSGML v1.0//EN
CALSCALE:GREGORIAN
METHOD:PUBLISH
X-WR-CALNAME:Black Foodie Finder - Hey Foodies
X-ORIGINAL-URL:https://blackfoodie.com
X-WR-CALDESC:Events for Black Foodie Finder - Hey Foodies
REFRESH-INTERVAL;VALUE=DURATION:PT1H
X-Robots-Tag:noindex
X-PUBLISHED-TTL:PT1H
BEGIN:VTIMEZONE
TZID:UTC
BEGIN:STANDARD
TZOFFSETFROM:+0000
TZOFFSETTO:+0000
TZNAME:UTC
DTSTART:20230101T000000
END:STANDARD
END:VTIMEZONE
BEGIN:VEVENT
DTSTART;VALUE=DATE:20240210
DTEND;VALUE=DATE:20240211
DTSTAMP:20260424T101914
CREATED:20240124T040603Z
LAST-MODIFIED:20240124T040603Z
UID:11578477643267-1707523200-1707609599@blackfoodie.com
SUMMARY:Cream Cheese Brownie Day
DESCRIPTION:When thinking of cheesecake\, most people’s thoughts go to that creamy colored\, tangy bite of feathery goodness with a graham cracker crust. How on earth could that be paired with the fudgy\, gooey sweetness of a brownie\, without creating a culinary war on the taste buds? Quite easily\, in fact! And that wonderful person who was the first to think of it? Well\, they may just need to be named as a hero! \nCream cheese\, or at least certain forms of it\, have been found in culinary records in Europe for hundreds of years. This delicious ingredient was mentioned in England as early as 1583! In France\, the earliest records show up about 1651. So clearly\, at least in Europe\, they have a head start on enjoying that morning cream cheese fix. Made from a combination of milk and cream\, what is now recognized today as cream cheese didn’t make its first appearance on the market in the United States until 1873\, when it was first mass produced. The product that eventually led to the Philadelphia Brand was introduced by William A. Lawrence. From Chester\, New York\, he was the dairyman who took this yummy cheese from the farms to the tabletops – and eventually into brownies!
URL:https://blackfoodie.com/event/cream-cheese-brownie-day/
CATEGORIES:February
END:VEVENT
BEGIN:VEVENT
DTSTART;VALUE=DATE:20240209
DTEND;VALUE=DATE:20240210
DTSTAMP:20260424T101914
CREATED:20240124T040505Z
LAST-MODIFIED:20240124T040505Z
UID:11578477643265-1707436800-1707523199@blackfoodie.com
SUMMARY:Pizza Pie Day
DESCRIPTION:Pizza Pie Day takes place on February 9. It is one of the numerous\, delicious food holidays in the U.S. Obviously\, Pizza Pie Day is a day for celebrating pizza\, one of the most popular foods Americans enjoy. Did you know that 36% of Americans eat pizza as a breakfast meal? Historians claim that pizza-like dishes have been a common staple in the ancient Middle East\, but it was Italians who perfected and popularized the recipe. As World War II troops grew fond of pizzas while they served in Italy\, pizzerias also sprung up in the U.S. to meet the returning soldiers’ demands for pizzas. \nBaker Raffaele Esposito of Naples is mainly credited for the recipe and renown of modern pizza. In 1889\, Esposito’s restaurant Pizzeria di Pietro baked a special pie topped with tomato sauce\, basil\, and mozzarella to mark the royal visit of Italian King Umberto I and his wife. Before World War II\, pizza was largely a local dish eaten and sold by Italian immigrants in the U.S. However\, during the occupation of Italy by the Allied Forces\, soldiers resorted to eating local Italian cuisine and eventually grew to love pizza so much that the local bakers were hardly able to keep up with the soldiers’ demand for the dish. The war veterans brought their love for the Italian delicacy idea back home and largely contributed to its popularity in America. In 1905\, Lombardi’s — originally a grocery store in New York City owned by Gennaro Lombardi — became North America’s premier pizzeria. This subsequently led to the proliferation of pizza houses in New York City and all over the U.S. in later years.
URL:https://blackfoodie.com/event/pizza-pie-day/
CATEGORIES:February
END:VEVENT
BEGIN:VEVENT
DTSTART;VALUE=DATE:20240209
DTEND;VALUE=DATE:20240210
DTSTAMP:20260424T101914
CREATED:20240124T040410Z
LAST-MODIFIED:20240124T040410Z
UID:11578477643263-1707436800-1707523199@blackfoodie.com
SUMMARY:National Bagels and Lox Day
DESCRIPTION:National Bagel and Lox Day recognizes one of America’s favorite bagel combinations on February 9th. Bagels are one of the few breads that are boiled then baked. This creates a soft inside while keeping a crisp outside. \nThe book described a bread that was boiled then baked just as bagels are made today. Today\, we know that bagels are linked to the Jewish community from Poland in the 17th century and lox emerging from Scandinavian fishermen who preserved salmon in saltwater brine.
URL:https://blackfoodie.com/event/national-bagels-and-lox-day/
CATEGORIES:February
END:VEVENT
BEGIN:VEVENT
DTSTART;VALUE=DATE:20240209
DTEND;VALUE=DATE:20240210
DTSTAMP:20260424T101914
CREATED:20240111T054007Z
LAST-MODIFIED:20240111T054007Z
UID:11578477642931-1707436800-1707523199@blackfoodie.com
SUMMARY:National Pizza Day
DESCRIPTION:National Pizza Day is celebrated on February 9th every year. It’s a day to enjoy pizza\, appreciate its culinary artistry\, and celebrate one of America’s favorite foods. \nOrigins: While it’s impossible to know for sure\, some people might say that National Pizza Day got its beginning in the 10th century in Naples\, Italy. This is when records first show the presence of what has now become modern-day pizza.
URL:https://blackfoodie.com/event/national-pizza-day/
CATEGORIES:February
END:VEVENT
BEGIN:VEVENT
DTSTART;VALUE=DATE:20240208
DTEND;VALUE=DATE:20240209
DTSTAMP:20260424T101914
CREATED:20240124T040321Z
LAST-MODIFIED:20240124T040321Z
UID:11578477643261-1707350400-1707436799@blackfoodie.com
SUMMARY:Molasses Bar Day
DESCRIPTION:If you’ve never had molasses\, then National Molasses Bar Day would be the perfect and most apt day to try it! Molasses\, or treacle in British English\, is essentially a thick sugary syrup made from sugarcane or sugar beets that contains large amounts of calcium\, iron and magnesium. Beet molasses is 50% sugar by weight\, and sugar is sometimes extracted from beet molasses through molasses desugarization. Cane molasses is more commonly used in cooking. \nThe word molasses actually comes from the Portuguese word “melaco\,” which evolved from the Latin “mel\,” meaning “honey.” This sticky and sweet stuff has been used as far back as the 1500s as a sweetener for food. There are a wide variety of uses for it in cooking; for cookies\, gingerbread\, sauces\, dark rye breads\, beers such as stouts or porters\, and of course\, molasses bars. In middle Eastern culture\, molasses is produced from dates\, grapes and pomegranates. It can also be blended with magnesium chloride and used for de-icing\, or as a soil additive to promote microbial activity. On early printing presses\, it was mixed with glue to case ink rollers.
URL:https://blackfoodie.com/event/molasses-bar-day/
CATEGORIES:February
END:VEVENT
BEGIN:VEVENT
DTSTART;VALUE=DATE:20240207
DTEND;VALUE=DATE:20240208
DTSTAMP:20260424T101914
CREATED:20240124T040222Z
LAST-MODIFIED:20240124T040222Z
UID:11578477643259-1707264000-1707350399@blackfoodie.com
SUMMARY:National Fettuccine Alfredo Day
DESCRIPTION:Consisting of flat fettuccine pasta ribbons and a white sauce made from cheese\, Fettuccine Alfredo is certainly a favorite for those who love Italian food but are looking for a departure from red sauces and round noodles! National Fettuccine Alfredo Day is here to celebrate and enjoy the fine\, unique flavors that are expressed in this delicious Italian pasta dish! \nFettuccine Alfredo’s origins may be traced back to the 1400s where a couple of different viable stories for its invention have come up through culture. The dish was likely invented in Rome by a man named Alfred di Lelio when he worked in a restaurant that was run by his mother. The story goes that Fettuccine Alfredo was invented in 1907 or 1908 when di Lelio wanted to offer his wife something to eat after she had given birth to their first child. The dish appeared on the menu of his mother’s restaurant before it closed in 1910 and then\, later\, when he opened a restaurant of his own\, Fettuccine Alfredo was on special offering on di Lelio’s menu.
URL:https://blackfoodie.com/event/national-fettuccine-alfredo-day/
CATEGORIES:February
END:VEVENT
BEGIN:VEVENT
DTSTART;VALUE=DATE:20240206
DTEND;VALUE=DATE:20240207
DTSTAMP:20260424T101914
CREATED:20240124T040125Z
LAST-MODIFIED:20240124T040125Z
UID:11578477643257-1707177600-1707263999@blackfoodie.com
SUMMARY:National Chopsticks Day
DESCRIPTION:National Chopsticks Day appears as a fun and fascinating reason to show appreciation for this little pair of utensils. So put down that fork\, set aside that knife\, and pick up these two little sticks that can usher in a whole new experience!  \nGetting their start at least 3000 years ago or more\, chopsticks originated in China and were first used as utensils in the process of cooking.
URL:https://blackfoodie.com/event/national-chopsticks-day/
CATEGORIES:February
END:VEVENT
BEGIN:VEVENT
DTSTART;VALUE=DATE:20240205
DTEND;VALUE=DATE:20240206
DTSTAMP:20260424T101914
CREATED:20240124T040020Z
LAST-MODIFIED:20240124T040020Z
UID:11578477643254-1707091200-1707177599@blackfoodie.com
SUMMARY:World Nutella Day
DESCRIPTION:Happiness is a warm taste of hazelnut spread on a warm flaky pastry! And that hazelnut spread is known across the world as its brand name\, Nutella. This delightful\, chocolatey hazelnut spread can be slathered on toast or baked right into the center of pastries or other baked goods. This might not be the case for everyone\, but many people have been known to consume it simply with a spoon or finger! And others have certainly found creative ways to eat it\, using pretzel sticks or even potato chips to get their taste of it. It seems like everyone who is a fan has their favorite way to get their Nutella fix. \nWorld Nutella Day was first celebrated in 2007. The idea for the day came from Sara Rosso who was an American blogger who was living in Italy at the time. \n 
URL:https://blackfoodie.com/event/world-nutella-day/
CATEGORIES:February
END:VEVENT
BEGIN:VEVENT
DTSTART;VALUE=DATE:20240205
DTEND;VALUE=DATE:20240206
DTSTAMP:20260424T101914
CREATED:20240124T035925Z
LAST-MODIFIED:20240124T035925Z
UID:11578477643252-1707091200-1707177599@blackfoodie.com
SUMMARY:National Chocolate Fondue Day
DESCRIPTION:February 5 is Chocolate Fondue Day\, a made-up holiday that encourages people to get together with family and friends and enjoy a fondue pot of delicious and gooey melted chocolate. Chocolate fondue is easy to make at home. \nThe invention of Chocolate Fondue can be credited to a Swiss restaurant owner in 1960s New York City. And that person was Konrad Egli\, who was motivated to add a dessert version of the dish to his restaurant menu at Chalet Suisse in New York.
URL:https://blackfoodie.com/event/national-chocolate-fondue-day/
CATEGORIES:February
END:VEVENT
BEGIN:VEVENT
DTSTART;VALUE=DATE:20240204
DTEND;VALUE=DATE:20240205
DTSTAMP:20260424T101914
CREATED:20240124T035834Z
LAST-MODIFIED:20240124T035834Z
UID:11578477643249-1707004800-1707091199@blackfoodie.com
SUMMARY:National Stuffed Mushroom Day
DESCRIPTION:February 4 is Stuffed Mushroom Day. Also known as National Stuffed Mushroom Day in the United States\, this made-up holiday clearly encourages people to make and consume lots and lots of stuffed mushrooms. Portabello mushrooms are just one of the many mushrooms one can stuff and bake. \nIt is likely that the Italians should receive the credit for a stuffed mushroom as the recipes originated somewhere over there and closely resembles the Italian stuffed zucchini.
URL:https://blackfoodie.com/event/national-stuffed-mushroom-day/
CATEGORIES:February
END:VEVENT
BEGIN:VEVENT
DTSTART;VALUE=DATE:20240204
DTEND;VALUE=DATE:20240205
DTSTAMP:20260424T101914
CREATED:20240124T035715Z
LAST-MODIFIED:20240124T035715Z
UID:11578477643247-1707004800-1707091199@blackfoodie.com
SUMMARY:Homemade Soup Day
DESCRIPTION:National Homemade Soup Day is celebrated annually in the United States on February 4th. The holiday was created in the 1970s to celebrate a comforting dish that has been enjoyed for centuries. \n 
URL:https://blackfoodie.com/event/homemade-soup-day/
CATEGORIES:February
END:VEVENT
BEGIN:VEVENT
DTSTART;VALUE=DATE:20240204
DTEND;VALUE=DATE:20240205
DTSTAMP:20260424T101914
CREATED:20240111T053843Z
LAST-MODIFIED:20240111T053843Z
UID:11578477642929-1707004800-1707091199@blackfoodie.com
SUMMARY:National Pork Rind Appreciation Day
DESCRIPTION:National Pork Rind Day is celebrated on February 5th each year. It’s a day to celebrate the fried edible skin of the pig\, which is a popular American dish. \nOrigins: In 2011\, Rudolph Foods declared National Pork Rinds Day to be celebrated on Super Bowl. The Ohio-based company promoted the day by also recognizing the truckers who deliver the pork rinds to grocers\, convenience stores\, and the big game every year.
URL:https://blackfoodie.com/event/national-pork-rind-appreciation-day/
CATEGORIES:February
END:VEVENT
BEGIN:VEVENT
DTSTART;VALUE=DATE:20240203
DTEND;VALUE=DATE:20240204
DTSTAMP:20260424T101914
CREATED:20240124T035602Z
LAST-MODIFIED:20240124T035602Z
UID:11578477643244-1706918400-1707004799@blackfoodie.com
SUMMARY:Ice Cream for Breakfast Day
DESCRIPTION:Today\, Eat Ice Cream for Breakfast Day (February 18) is a day to raise awareness of the prevalence of childhood cancer\, celebrate kids who are currently fighting cancer and honor those how have passed away. \nIce Cream For Breakfast Day is a fun and whimsical holiday where you celebrate the morning by eating ice cream… for breakfast. It was started in the 1960s by a mom in New York who was trying to find fun activities for her kids during a snowstorm when they couldn’t leave the house.
URL:https://blackfoodie.com/event/ice-cream-for-breakfast-day/
CATEGORIES:February
END:VEVENT
BEGIN:VEVENT
DTSTART;VALUE=DATE:20240203
DTEND;VALUE=DATE:20240204
DTSTAMP:20260424T101914
CREATED:20240111T053733Z
LAST-MODIFIED:20240111T053733Z
UID:11578477642927-1706918400-1707004799@blackfoodie.com
SUMMARY:National Carrot Cake Day
DESCRIPTION:National Carrot Cake Day on February 3rd\, celebrates one of America’s favorite flavors of cake. In the carrot cake\, we get to eat our cake and veggies\, too! \nOrigins: History of National Carrot Cake Day In fact\, this practice has been as recent in history as during World War II. During this difficult time around the globe\, and especially in Europe\, the government of Britain needed to ration food and luxury items to their population.
URL:https://blackfoodie.com/event/national-carrot-cake-day/
CATEGORIES:February
END:VEVENT
BEGIN:VEVENT
DTSTART;VALUE=DATE:20240202
DTEND;VALUE=DATE:20240203
DTSTAMP:20260424T101914
CREATED:20240124T035145Z
LAST-MODIFIED:20240124T035145Z
UID:11578477643242-1706832000-1706918399@blackfoodie.com
SUMMARY:Heavenly Hash Day
DESCRIPTION:National Heavenly Hash Day is celebrated on February 2nd. It’s an unofficial food holiday that recognizes a family favorite dessert.  \nWhere is Heavenly Hash from? Although Heavenly Hash is well-known as an ice cream flavor\, it actually started as a candy. Originating from New Orleans\, the homemade treat was originally made for shoppers but\, eventually\, was launched into large-scale production.
URL:https://blackfoodie.com/event/heavenly-hash-day/
CATEGORIES:February
END:VEVENT
BEGIN:VEVENT
DTSTART;VALUE=DATE:20240202
DTEND;VALUE=DATE:20240203
DTSTAMP:20260424T101914
CREATED:20240124T035051Z
LAST-MODIFIED:20240124T035051Z
UID:11578477643240-1706832000-1706918399@blackfoodie.com
SUMMARY:Bubble Gum Day
DESCRIPTION:Chewing gum\, for many people\, is associated with the ability to think more clearly. Something about keeping the mouth closed and the jaw moving chewing makes the brain just focus in and start concentrating. This is the very reason that Bubble Gum Day came into existence\, with the twin goals of generating charity contributions and also allowing kids to chew gum in school for the special event! \nWhile chewing gum has been around for a long time\, bubble gum was invented in 1928 when the first commercial bubble gum was created: Double Bubble.
URL:https://blackfoodie.com/event/bubble-gum-day/
CATEGORIES:February
END:VEVENT
BEGIN:VEVENT
DTSTART;VALUE=DATE:20240202
DTEND;VALUE=DATE:20240203
DTSTAMP:20260424T101914
CREATED:20240111T053539Z
LAST-MODIFIED:20240111T053628Z
UID:11578477642923-1706832000-1706918399@blackfoodie.com
SUMMARY:National Tater Tot Day
DESCRIPTION:This lovely day started its devotion to the Tater Tot in 2009. It began as a food writer’s attempt at filling out his copy quota. Once he put it into the cyberspace of Twitter it was an instant hit! When you think about those tiny rectangular bits of shredded potato does your stomach give a little dance of excitement? \nOrigins: The tater tot itself was invented in 1953 by the Ore-Ida company\, which stands for Oregon-Idaho. The Ore-Ida founders\, F. Nephi Grigg\, Golden Grigg\, and Ross Erin Butler Sr.\, invented tater tots as a way to use excess potato shavings from making frozen french fries.According to the National Day Calendar\, National Tater Day may have originated in Kentucky.
URL:https://blackfoodie.com/event/national-tater-tot-day/
CATEGORIES:February
END:VEVENT
BEGIN:VEVENT
DTSTART;VALUE=DATE:20240201
DTEND;VALUE=DATE:20240202
DTSTAMP:20260424T101914
CREATED:20240111T053255Z
LAST-MODIFIED:20240111T053255Z
UID:11578477642921-1706745600-1706831999@blackfoodie.com
SUMMARY:National Baked Alaska Day
DESCRIPTION:U.S. National Baked Alaska Day occurs annually on February 1 to celebrate and encourage everyone to treat themselves to the tasty dessert made of ice cream\, sponge cake\, and meringue. \nOrigins: According to Nationaltoday.com\, the dessert Baked Alaska is named by a chef at Delmonico’s Restaurant in New York City in 1867 to celebrate the United States’ acquisition of Alaska from Russia in 1867.
URL:https://blackfoodie.com/event/national-baked-alaska-day/
CATEGORIES:February
END:VEVENT
BEGIN:VEVENT
DTSTART;VALUE=DATE:20240131
DTEND;VALUE=DATE:20240201
DTSTAMP:20260424T101914
CREATED:20240111T053105Z
LAST-MODIFIED:20240111T053105Z
UID:11578477642919-1706659200-1706745599@blackfoodie.com
SUMMARY:National Hot Chocolate Day
DESCRIPTION:National Hot Chocolate Day is an informal celebration dedicated to honouring one of the most comforting and cherished beverages: hot chocolate. Though it’s not an official holiday\, it’s warmly embraced by many across the globe\, including some folks in the UK\, as a day to indulge in this rich and creamy drink. \nOrigins: By 1828\, powdered chocolate was made that made it much easier to stir into milk. And when Nesquik was invented in 1948\, the first chocolate milk powder made a quick and tasty addition to milk that could also be heated up into hot chocolate
URL:https://blackfoodie.com/event/national-hot-chocolate-day/
CATEGORIES:January
END:VEVENT
BEGIN:VEVENT
DTSTART;VALUE=DATE:20240130
DTEND;VALUE=DATE:20240131
DTSTAMP:20260424T101914
CREATED:20240111T052926Z
LAST-MODIFIED:20240111T052926Z
UID:11578477642917-1706572800-1706659199@blackfoodie.com
SUMMARY:National Croissant Day
DESCRIPTION:In the United States\, National Croissant Day recognizes a flaky pastry enjoyed at every meal. Croissants are buttery\, crescent-shaped rolls that are crispy on the outside and soft on the inside.  \nOrigins: Although croissants are considered as French speciality\, they have got Austrian origin. The story of croissants sounds more like a tale full of adventures. It begins in 1683 during the siege of Vienna by the Ottoman Empire. The Turks made several attempts to enter Vienna\, but they were unsuccessful.
URL:https://blackfoodie.com/event/national-croissant-day/
CATEGORIES:January
END:VEVENT
BEGIN:VEVENT
DTSTART;VALUE=DATE:20240129
DTEND;VALUE=DATE:20240130
DTSTAMP:20260424T101914
CREATED:20240124T034922Z
LAST-MODIFIED:20240124T034922Z
UID:11578477643238-1706486400-1706572799@blackfoodie.com
SUMMARY:National Corn Chip Day
DESCRIPTION:National Corn Chip Day is celebrated on January 29 every year. Corn chips are loved by people of different races and ages. It is crispy\, crunchy\, and made out of cornmeal. The chips are extremely spiced with salt flavor and packed in the bag for longer life. \nWe have been celebrating National Corn Chip Day since at least 2002. However\, we’ve not been able to identify the organizer of the celebration.
URL:https://blackfoodie.com/event/national-corn-chip-day/
CATEGORIES:January
END:VEVENT
BEGIN:VEVENT
DTSTART;VALUE=DATE:20240128
DTEND;VALUE=DATE:20240129
DTSTAMP:20260424T101914
CREATED:20240124T034835Z
LAST-MODIFIED:20240124T034835Z
UID:11578477643236-1706400000-1706486399@blackfoodie.com
SUMMARY:National Blueberry Pancake Day
DESCRIPTION:Who doesn’t love waking up to a fresh plate of blueberry pancakes\, or even indulging in them\, piled high with whipped cream\, for a delicious dessert? They truly are a food of the gods\, and they are so universally loved that they even have their own day! That’s right\, National Blueberry Pancake Day is a special and beautiful reason to enjoy this dish in an extra special way. One day of each and every year\, it’s possible to celebrate the sacred blueberry pancake and give it the love and respect it deserves. Get ready for National Blueberry Pancake Day! \nAccording to CooksInfo\, the first print mention of National Blueberry Pancake Day was in January 2015 in Texas.
URL:https://blackfoodie.com/event/national-blueberry-pancake-day/
CATEGORIES:January
END:VEVENT
BEGIN:VEVENT
DTSTART;VALUE=DATE:20240127
DTEND;VALUE=DATE:20240128
DTSTAMP:20260424T101914
CREATED:20240124T034739Z
LAST-MODIFIED:20240124T034739Z
UID:11578477643234-1706313600-1706399999@blackfoodie.com
SUMMARY:Chocolate Cake Day
DESCRIPTION:National Chocolate Cake Day celebrates the cake more people favor. And more often than not\, we celebrate our special occasions like anniversaries\, birthdays and weddings with cake. Why not enjoy chocolate cake on January 27th every year? \nIn America\, chocolate was consumed primarily as a beverage until the 1830s or 40s. Chocolate cakes\, as we think of them today\, mostly did not exist then. According to the Dover Post\, the chocolate cake was born in 1765 when a doctor and a chocolate maker teamed up in an old mill. They ground up cocoa beans between huge millstones to make a thick syrup. The liquid was poured into molds shaped like cakes\, which were meant to be transformed into a beverage. A popular Philadelphia cookbook author\, Eliza Leslie\, published the earliest chocolate cake recipe in 1847 in The Lady’s Receipt Book. Unlike chocolate cakes we know today\, this recipe used chopped chocolate. Other cooks of the time such as Sarah Tyson Rorer and Maria Parloa all made contributions to the development of the chocolate cake and were prolific authors of cookbooks.
URL:https://blackfoodie.com/event/chocolate-cake-day/
CATEGORIES:January
END:VEVENT
BEGIN:VEVENT
DTSTART;VALUE=DATE:20240126
DTEND;VALUE=DATE:20240127
DTSTAMP:20260424T101914
CREATED:20240124T034646Z
LAST-MODIFIED:20240124T034646Z
UID:11578477643232-1706227200-1706313599@blackfoodie.com
SUMMARY:National Pistachio Day
DESCRIPTION:National Pistachio Day is the time to celebrate this popular nut\, which happens to be native to the Middle Eastern areas of the globe\, including the areas that are now Turkey\, Syria\, Lebanon\, Afghanistan and even southern Russia. It is thought that pistachio nuts date back pretty far into human history. In fact\, they are believed to have been not only eaten by humans for at least 9000 years\, but they have become an interesting part of some cultures and traditions! \nThis day is dedicated to the delicious and nutritious pistachios\, a beloved snack that has been around for centuries. Originally from Iran\, this nut was introduced in California during the late 19th century and quickly became popular due to its unique flavor and health benefits.
URL:https://blackfoodie.com/event/national-pistachio-day/
CATEGORIES:January
END:VEVENT
BEGIN:VEVENT
DTSTART;VALUE=DATE:20240126
DTEND;VALUE=DATE:20240127
DTSTAMP:20260424T101914
CREATED:20240124T034548Z
LAST-MODIFIED:20240124T034548Z
UID:11578477643229-1706227200-1706313599@blackfoodie.com
SUMMARY:National Peanut Brittle Day
DESCRIPTION:National Peanut Brittle Day on January 26th recognizes a hard\, flat candy confection enjoyed worldwide. The candy’s buttery\, nutty texture makes for a delicious treat and can be made at home. \nSome people ascertain that the history of peanut brittle begins in the southern states of the USA\, which makes sense because that is where peanuts were first known to be cultivated.
URL:https://blackfoodie.com/event/national-peanut-brittle-day/
CATEGORIES:January
END:VEVENT
BEGIN:VEVENT
DTSTART;VALUE=DATE:20240125
DTEND;VALUE=DATE:20240126
DTSTAMP:20260424T101914
CREATED:20240124T034441Z
LAST-MODIFIED:20240124T034441Z
UID:11578477643227-1706140800-1706227199@blackfoodie.com
SUMMARY:National Irish Coffee Day
DESCRIPTION:National Irish Coffee Day is celebrated on January 25th. It’s a day to enjoy a mug of strong coffee\, Irish whiskey\, sugar\, and a layer of cream.  \nIrish Coffee\, or caife Gaelach in Irish\, dates back to 1943 when it was first invented by chef Joe Sheridan while working at Foynes airport near Limerick\, Ireland.
URL:https://blackfoodie.com/event/national-irish-coffee-day/
CATEGORIES:January
END:VEVENT
BEGIN:VEVENT
DTSTART;VALUE=DATE:20240124
DTEND;VALUE=DATE:20240125
DTSTAMP:20260424T101914
CREATED:20240124T034354Z
LAST-MODIFIED:20240124T034354Z
UID:11578477643225-1706054400-1706140799@blackfoodie.com
SUMMARY:National Peanut Butter Day
DESCRIPTION:National Peanut Butter Day on January 24th recognizes an American staple in our pantries. Whether creamy or chunky\, with chocolate or with jelly\, peanut butter gets the recognition it deserves each year on this day.  \nThen\, in 1903\, a peanut butter-making machine was patented by Dr. Ambrose Straub of St. Louis\, Missouri. As far as National Peanut Butter Day is concerned\, it seems that this auspicious occasion was created many years ago\, to allow peanut butter lovers to celebrate the creation of this wonderful food.
URL:https://blackfoodie.com/event/national-peanut-butter-day/
CATEGORIES:January
END:VEVENT
BEGIN:VEVENT
DTSTART;VALUE=DATE:20240123
DTEND;VALUE=DATE:20240124
DTSTAMP:20260424T101914
CREATED:20240124T034313Z
LAST-MODIFIED:20240124T034313Z
UID:11578477643222-1705968000-1706054399@blackfoodie.com
SUMMARY:Rhubarb Pie Day
DESCRIPTION:On June 9th of each year\, National Strawberry Rhubarb Pie Day recognizes a delicious and seasonal pie. A tart vegetable\, rhubarb is often paired with sweet fruits making for a pleasing dessert. \nJune 9th is the day that is celebrated for Strawberry-Rhubarb Pie. Rhuarb originated in Europe (Germany and UK)\, and introduced to the United States in the late 18th century.
URL:https://blackfoodie.com/event/rhubarb-pie-day/
CATEGORIES:January
END:VEVENT
BEGIN:VEVENT
DTSTART;VALUE=DATE:20240123
DTEND;VALUE=DATE:20240124
DTSTAMP:20260424T101914
CREATED:20240111T052756Z
LAST-MODIFIED:20240111T052756Z
UID:11578477642915-1705968000-1706054399@blackfoodie.com
SUMMARY:National Pie Day
DESCRIPTION:National Pie Day on January 23rd celebrates one of the Nations’ favorite desserts. No matter how you slice it\, pie in just about any form makes a crowd happy. Fruit pies\, berry pies\, cream pies – they are mouthwatering servings of homemade goodness.  \nOrigins: The American Pie Council created National Pie Day in 1986 to commemorate Crisco’s 75th anniversary of “serving foods to families everywhere.”
URL:https://blackfoodie.com/event/national-pie-day/
CATEGORIES:January
END:VEVENT
BEGIN:VEVENT
DTSTART;VALUE=DATE:20240122
DTEND;VALUE=DATE:20240123
DTSTAMP:20260424T101914
CREATED:20240124T034219Z
LAST-MODIFIED:20240124T034219Z
UID:11578477643220-1705881600-1705967999@blackfoodie.com
SUMMARY:National Blonde Brownie Day
DESCRIPTION:National Blonde Brownie Day on January 22nd recognizes a treat often referred to as blondies. Almost everyone knows that a blonde brownie is similar to a chocolate brownie. In place of cocoa\, bakers use brown sugar when making this delicious brownie\, giving it a sweet-tooth-satisfying molasses flavor! \nIt is known\, however\, that this light-colored treat was actually invented in Upper Sandusky\, Ohio. Recipes for blonde brownies can be found in recipe books dating back into the 1940s and maybe even earlier.
URL:https://blackfoodie.com/event/national-blonde-brownie-day/
CATEGORIES:January
END:VEVENT
END:VCALENDAR