BEGIN:VCALENDAR
VERSION:2.0
PRODID:-//Black Foodie Finder - Hey Foodies - ECPv6.15.20//NONSGML v1.0//EN
CALSCALE:GREGORIAN
METHOD:PUBLISH
X-WR-CALNAME:Black Foodie Finder - Hey Foodies
X-ORIGINAL-URL:https://blackfoodie.com
X-WR-CALDESC:Events for Black Foodie Finder - Hey Foodies
REFRESH-INTERVAL;VALUE=DURATION:PT1H
X-Robots-Tag:noindex
X-PUBLISHED-TTL:PT1H
BEGIN:VTIMEZONE
TZID:UTC
BEGIN:STANDARD
TZOFFSETFROM:+0000
TZOFFSETTO:+0000
TZNAME:UTC
DTSTART:20230101T000000
END:STANDARD
END:VTIMEZONE
BEGIN:VEVENT
DTSTART;VALUE=DATE:20240112
DTEND;VALUE=DATE:20240113
DTSTAMP:20260423T173958
CREATED:20240124T032624Z
LAST-MODIFIED:20240124T032624Z
UID:11578477643184-1705017600-1705103999@blackfoodie.com
SUMMARY:Curried Chicken Day
DESCRIPTION:A favorite dish of Indians and Britons\, as well as people from other places throughout the world\, like the Caribbean and Asia\, curried chicken offers a delicious and comforting blend of flavors. National Curried Chicken Day is here to pay respect to this yummy dish that is a favorite craving by so many. \n History states that soldiers stationed in India during the British rule were craving for this delicacy and started including it on their menus. In the early 1800s\, a British sea captain stationed in Bengal\, India\, shared the recipe for this dish with some friends at the major shipping port in Savannah\, Georgia.
URL:https://blackfoodie.com/event/curried-chicken-day/
CATEGORIES:January
END:VEVENT
BEGIN:VEVENT
DTSTART;VALUE=DATE:20240111
DTEND;VALUE=DATE:20240112
DTSTAMP:20260423T173958
CREATED:20240124T032512Z
LAST-MODIFIED:20240124T032512Z
UID:11578477643182-1704931200-1705017599@blackfoodie.com
SUMMARY:National Milk Day
DESCRIPTION:The day milk deliveries in bottles began in the US. National Milk Day falls on January 11 to observe the very first time milk was delivered to homes inside sterilized glass bottles. It took until 1878 before anybody thought to fill bottles with milk and seal them with waxed paper.
URL:https://blackfoodie.com/event/national-milk-day/
CATEGORIES:January
END:VEVENT
BEGIN:VEVENT
DTSTART;VALUE=DATE:20240110
DTEND;VALUE=DATE:20240111
DTSTAMP:20260423T173958
CREATED:20240124T032406Z
LAST-MODIFIED:20240124T032406Z
UID:11578477643180-1704844800-1704931199@blackfoodie.com
SUMMARY:Bittersweet Chocolate Day
DESCRIPTION:Today is Bittersweet Chocolate Day! Bittersweet chocolate is a sweetened form of dark chocolate made with cocoa liquor\, sugar\, cocoa butter\, and vanilla. Unlike milk chocolate or white chocolate\, it does not contain any milk solids. \nChocolate comes from the seed of the tropical Theobroma cacao tree. Cacao\, which has been cultivated for at least three millennia\, is grown in Mexico\, Central America\, and Northern South America. The earliest known documentation of the use of cacao seeds is around 1100 BC. The cacao tree seed has an intensely bitter taste and must be fermented to develop the flavor.
URL:https://blackfoodie.com/event/bittersweet-chocolate-day/
CATEGORIES:January
END:VEVENT
BEGIN:VEVENT
DTSTART;VALUE=DATE:20240109
DTEND;VALUE=DATE:20240110
DTSTAMP:20260423T173958
CREATED:20240124T032311Z
LAST-MODIFIED:20240124T032311Z
UID:11578477643178-1704758400-1704844799@blackfoodie.com
SUMMARY:National Apricot Day
DESCRIPTION:Apricots ripen in the early summer\, but they’re quite commonly dried so that way we can enjoy them year-round. The word ‘apricot’ in Latin purportedly means “precious”\, but further investigation reveals that while this moniker is appropriate\, it actually comes from Arabic ‘al barqūq’ (“early ripe”) via French ‘abricot’. \nApricots are found the world over but originated in northeastern China near the Russian border in ancient times. Later\, the fruit was introduced to Europe and Armenia.
URL:https://blackfoodie.com/event/national-apricot-day/
CATEGORIES:January
END:VEVENT
BEGIN:VEVENT
DTSTART;VALUE=DATE:20240108
DTEND;VALUE=DATE:20240109
DTSTAMP:20260423T173958
CREATED:20240124T032136Z
LAST-MODIFIED:20240124T032136Z
UID:11578477643176-1704672000-1704758399@blackfoodie.com
SUMMARY:National English Toffee Day
DESCRIPTION:On January 8th\, National English Toffee Day celebrates a favored confection that’s been enjoyed across the country for generations. This sweet treat comes with some confusion concerning the difference between English toffee and just plain toffee. \nEnglish toffee originates in the U.K. during the 19th century\, and the earliest record of toffee is in 1825.
URL:https://blackfoodie.com/event/national-english-toffee-day/
CATEGORIES:January
END:VEVENT
BEGIN:VEVENT
DTSTART;VALUE=DATE:20240107
DTEND;VALUE=DATE:20240108
DTSTAMP:20260423T173958
CREATED:20240111T052009Z
LAST-MODIFIED:20240111T052009Z
UID:11578477642907-1704585600-1704671999@blackfoodie.com
SUMMARY:National Tempura Day
DESCRIPTION:On January 7th\, National Tempura Day encourages us to celebrate with a dish made with a tempura batter. This Japanese fare includes either seafood or vegetables dipped in batter and deep-fried. \nOrigin: Where did tempura originate? No one really knows. What we do know is back in 1549\, Portuguese sailors arrived in Japan and introduced a way of battering and frying food that is now infused into the culture.
URL:https://blackfoodie.com/event/national-tempura-day/
CATEGORIES:January
END:VEVENT
BEGIN:VEVENT
DTSTART;VALUE=DATE:20240106
DTEND;VALUE=DATE:20240107
DTSTAMP:20260423T173958
CREATED:20240124T032034Z
LAST-MODIFIED:20240124T032034Z
UID:11578477643174-1704499200-1704585599@blackfoodie.com
SUMMARY:National Bean Day
DESCRIPTION:The day commemorates the death of the geneticist Gregor Mendel\, whose experiments with breeding pea plants formed the basis of modern genetics. From what we could find\, it would appear that Paula Bowen is the creator of National Bean Day. \nNational Bean Day is celebrated annually on January 6th. It’s an unofficial holiday that honors the bean\, a versatile food that’s been around since ancient times.
URL:https://blackfoodie.com/event/national-bean-day/
CATEGORIES:January
END:VEVENT
BEGIN:VEVENT
DTSTART;VALUE=DATE:20240106
DTEND;VALUE=DATE:20240107
DTSTAMP:20260423T173958
CREATED:20240124T031924Z
LAST-MODIFIED:20240124T031924Z
UID:11578477643172-1704499200-1704585599@blackfoodie.com
SUMMARY:Apple Tree Day
DESCRIPTION:Apple Tree Day started off as a celebration of an old apple tree\, which had been around for two centuries. As time went on\, this day morphed into a celebration of the fruit itself. \nOriginating in Central Asia\, apples then made their way to Europe where they grew for many years before European colonists brought them over to North America during the 17th century. It is possible that apple trees are the oldest tree to have been cultivated.
URL:https://blackfoodie.com/event/apple-tree-day/
CATEGORIES:January
END:VEVENT
BEGIN:VEVENT
DTSTART;VALUE=DATE:20240105
DTEND;VALUE=DATE:20240106
DTSTAMP:20260423T173958
CREATED:20240119T132118Z
LAST-MODIFIED:20240119T132118Z
UID:11578477643156-1704412800-1704499199@blackfoodie.com
SUMMARY:National Whipped Cream Day
DESCRIPTION:This holiday falls on Reddi-Wip founder Aaron “Bunny” Lapin’s birthday (January 5\, 1914 – July 10\, 1999). Lapin invented Reddi-Wip in 1948\, and the holiday celebrates whipped cream’s contributions to the dessert world. \nThe earliest known literary references to whipped cream seem to date back to 1629 in France (crème fouettée) and 1673 in England. National Whipped Cream Day is actually a nod to pay homage to the birthday of Reddi-wip founder Aaron Lapin\, who was born in 1914.
URL:https://blackfoodie.com/event/national-whipped-cream-day/
CATEGORIES:January
END:VEVENT
BEGIN:VEVENT
DTSTART;VALUE=DATE:20240104
DTEND;VALUE=DATE:20240105
DTSTAMP:20260423T173958
CREATED:20240111T050216Z
LAST-MODIFIED:20240111T050913Z
UID:11578477642905-1704326400-1704412799@blackfoodie.com
SUMMARY:National Spaghetti Day
DESCRIPTION:On this day\, pasta lovers unite to enjoy plates of spaghetti in various forms\, whether it’s classic spaghetti and meatballs\, a vegetarian pasta dish\, or an adventurous twist on the traditional recipe. It’s a day to savor the flavors of Italy and appreciate the versatility of this beloved pasta. \nOrigin: In the United States\, National Spaghetti Day is celebrated on January 4th. The first “National Spaghetti Day” was promoted in Washington\, USA in 1953.
URL:https://blackfoodie.com/event/national-spaghetti-day/
CATEGORIES:January
END:VEVENT
BEGIN:VEVENT
DTSTART;VALUE=DATE:20240103
DTEND;VALUE=DATE:20240104
DTSTAMP:20260423T173958
CREATED:20240119T131933Z
LAST-MODIFIED:20240119T131933Z
UID:11578477643152-1704240000-1704326399@blackfoodie.com
SUMMARY:National Chocolate Covered Cherry Day
DESCRIPTION:U.S. National Chocolate Covered Cherry Day on January 3 is for celebrating that combo that just naturally seems to go together\, cherries and chocolate. \nDuring the 1700s in England\, cherries were enclosed in chocolate with a little kirsch (cordial) liqueur. After finding their way to the United States\, Americans began delighting in the little bit of alcoholic cordial surrounding the fruit dipped in chocolate.
URL:https://blackfoodie.com/event/national-chocolate-covered-cherry-day/
CATEGORIES:January
END:VEVENT
BEGIN:VEVENT
DTSTART;VALUE=DATE:20240103
DTEND;VALUE=DATE:20240104
DTSTAMP:20260423T173958
CREATED:20240119T131843Z
LAST-MODIFIED:20240119T131843Z
UID:11578477643150-1704240000-1704326399@blackfoodie.com
SUMMARY:Fruitcake Toss Day
DESCRIPTION:Let’s be honest: nobody really likes fruitcake\, and nobody ever really eats it\, either. Heavy\, flavorless and always too sweet\, fruitcake is one of our century’s biggest holiday jokes. So when Christmas is over\, and you’ve taken the tinsel down\, and thrown out the tree\, what should you do with that old fruitcake that you’ve been using to prop open the door/to replace a missing limb/as a headrest? National Fruitcake Toss Day has a “fruitful” answer (see what we did there?). The event\, which is reported as having originated in Manitou Springs\, Colorado\, was created in order to help people get rid of unwanted fruitcake after Christmas \n 
URL:https://blackfoodie.com/event/fruitcake-toss-day/
CATEGORIES:January
END:VEVENT
BEGIN:VEVENT
DTSTART;VALUE=DATE:20240102
DTEND;VALUE=DATE:20240103
DTSTAMP:20260423T173958
CREATED:20240119T131623Z
LAST-MODIFIED:20240119T131623Z
UID:11578477643148-1704153600-1704239999@blackfoodie.com
SUMMARY:National Cream Puff Day
DESCRIPTION:National Cream Puff Day is celebrated annually in the United States on January 2. Although the treat originated in France\, it has been loved by Americans too. These light\, airy\, cream-filled desserts make our hearts sing. \nOriginating in France\, cream puffs are also known as profiterole and choux a la creme. Cream puffs are a French dessert pastry filled with whipped cream\, pastry cream\, ice cream or custard.
URL:https://blackfoodie.com/event/national-cream-puff-day/
CATEGORIES:January
END:VEVENT
BEGIN:VEVENT
DTSTART;VALUE=DATE:20240102
DTEND;VALUE=DATE:20240103
DTSTAMP:20260423T173958
CREATED:20240119T130842Z
LAST-MODIFIED:20240119T130842Z
UID:11578477643136-1704153600-1704239999@blackfoodie.com
SUMMARY:National Buffet Day
DESCRIPTION:National Buffet Day is a holiday that falls on January 2nd every year and invites everyone to head out to their favorite buffet or smorgasbord and enjoy \nOrigin: In 1939\, at the New York World’s Fair exhibition
URL:https://blackfoodie.com/event/national-buffet-day-4/
CATEGORIES:January
END:VEVENT
BEGIN:VEVENT
DTSTART;VALUE=DATE:20240101
DTEND;VALUE=DATE:20240102
DTSTAMP:20260423T173958
CREATED:20240119T131524Z
LAST-MODIFIED:20240119T131524Z
UID:11578477643146-1704067200-1704153599@blackfoodie.com
SUMMARY:National Bloody Mary Day
DESCRIPTION:National Bloody Mary Day celebrates the drinking of the Bloody Mary cocktail\, which is described by some as the perfect hangover cure–despite the fact that it happens to contain the very thing that made the person hung over in the first place: alcohol! \nOrigin: Popular theory puts the Bloody Mary’s birthplace in Paris in 1921\, where Fernand “Pete” Petiot\, bartender at Harry’s New York Bar (then known as The New York Bar)\, was credited with creating an alcoholic tomato juice cocktail spiced with some salt and pepper and a couple of dashes of Worcestershire sauce.
URL:https://blackfoodie.com/event/national-bloody-mary-day/
CATEGORIES:January
END:VEVENT
END:VCALENDAR