BEGIN:VCALENDAR
VERSION:2.0
PRODID:-//Black Foodie Finder - Hey Foodies - ECPv6.15.20//NONSGML v1.0//EN
CALSCALE:GREGORIAN
METHOD:PUBLISH
X-WR-CALNAME:Black Foodie Finder - Hey Foodies
X-ORIGINAL-URL:https://blackfoodie.com
X-WR-CALDESC:Events for Black Foodie Finder - Hey Foodies
REFRESH-INTERVAL;VALUE=DURATION:PT1H
X-Robots-Tag:noindex
X-PUBLISHED-TTL:PT1H
BEGIN:VTIMEZONE
TZID:UTC
BEGIN:STANDARD
TZOFFSETFROM:+0000
TZOFFSETTO:+0000
TZNAME:UTC
DTSTART:20230101T000000
END:STANDARD
END:VTIMEZONE
BEGIN:VEVENT
DTSTART;VALUE=DATE:20240131
DTEND;VALUE=DATE:20240201
DTSTAMP:20260423T125939
CREATED:20240111T053105Z
LAST-MODIFIED:20240111T053105Z
UID:11578477642919-1706659200-1706745599@blackfoodie.com
SUMMARY:National Hot Chocolate Day
DESCRIPTION:National Hot Chocolate Day is an informal celebration dedicated to honouring one of the most comforting and cherished beverages: hot chocolate. Though it’s not an official holiday\, it’s warmly embraced by many across the globe\, including some folks in the UK\, as a day to indulge in this rich and creamy drink. \nOrigins: By 1828\, powdered chocolate was made that made it much easier to stir into milk. And when Nesquik was invented in 1948\, the first chocolate milk powder made a quick and tasty addition to milk that could also be heated up into hot chocolate
URL:https://blackfoodie.com/event/national-hot-chocolate-day/
CATEGORIES:January
END:VEVENT
BEGIN:VEVENT
DTSTART;VALUE=DATE:20240130
DTEND;VALUE=DATE:20240131
DTSTAMP:20260423T125939
CREATED:20240111T052926Z
LAST-MODIFIED:20240111T052926Z
UID:11578477642917-1706572800-1706659199@blackfoodie.com
SUMMARY:National Croissant Day
DESCRIPTION:In the United States\, National Croissant Day recognizes a flaky pastry enjoyed at every meal. Croissants are buttery\, crescent-shaped rolls that are crispy on the outside and soft on the inside.  \nOrigins: Although croissants are considered as French speciality\, they have got Austrian origin. The story of croissants sounds more like a tale full of adventures. It begins in 1683 during the siege of Vienna by the Ottoman Empire. The Turks made several attempts to enter Vienna\, but they were unsuccessful.
URL:https://blackfoodie.com/event/national-croissant-day/
CATEGORIES:January
END:VEVENT
BEGIN:VEVENT
DTSTART;VALUE=DATE:20240129
DTEND;VALUE=DATE:20240130
DTSTAMP:20260423T125939
CREATED:20240124T034922Z
LAST-MODIFIED:20240124T034922Z
UID:11578477643238-1706486400-1706572799@blackfoodie.com
SUMMARY:National Corn Chip Day
DESCRIPTION:National Corn Chip Day is celebrated on January 29 every year. Corn chips are loved by people of different races and ages. It is crispy\, crunchy\, and made out of cornmeal. The chips are extremely spiced with salt flavor and packed in the bag for longer life. \nWe have been celebrating National Corn Chip Day since at least 2002. However\, we’ve not been able to identify the organizer of the celebration.
URL:https://blackfoodie.com/event/national-corn-chip-day/
CATEGORIES:January
END:VEVENT
BEGIN:VEVENT
DTSTART;VALUE=DATE:20240128
DTEND;VALUE=DATE:20240129
DTSTAMP:20260423T125939
CREATED:20240124T034835Z
LAST-MODIFIED:20240124T034835Z
UID:11578477643236-1706400000-1706486399@blackfoodie.com
SUMMARY:National Blueberry Pancake Day
DESCRIPTION:Who doesn’t love waking up to a fresh plate of blueberry pancakes\, or even indulging in them\, piled high with whipped cream\, for a delicious dessert? They truly are a food of the gods\, and they are so universally loved that they even have their own day! That’s right\, National Blueberry Pancake Day is a special and beautiful reason to enjoy this dish in an extra special way. One day of each and every year\, it’s possible to celebrate the sacred blueberry pancake and give it the love and respect it deserves. Get ready for National Blueberry Pancake Day! \nAccording to CooksInfo\, the first print mention of National Blueberry Pancake Day was in January 2015 in Texas.
URL:https://blackfoodie.com/event/national-blueberry-pancake-day/
CATEGORIES:January
END:VEVENT
BEGIN:VEVENT
DTSTART;VALUE=DATE:20240127
DTEND;VALUE=DATE:20240128
DTSTAMP:20260423T125939
CREATED:20240124T034739Z
LAST-MODIFIED:20240124T034739Z
UID:11578477643234-1706313600-1706399999@blackfoodie.com
SUMMARY:Chocolate Cake Day
DESCRIPTION:National Chocolate Cake Day celebrates the cake more people favor. And more often than not\, we celebrate our special occasions like anniversaries\, birthdays and weddings with cake. Why not enjoy chocolate cake on January 27th every year? \nIn America\, chocolate was consumed primarily as a beverage until the 1830s or 40s. Chocolate cakes\, as we think of them today\, mostly did not exist then. According to the Dover Post\, the chocolate cake was born in 1765 when a doctor and a chocolate maker teamed up in an old mill. They ground up cocoa beans between huge millstones to make a thick syrup. The liquid was poured into molds shaped like cakes\, which were meant to be transformed into a beverage. A popular Philadelphia cookbook author\, Eliza Leslie\, published the earliest chocolate cake recipe in 1847 in The Lady’s Receipt Book. Unlike chocolate cakes we know today\, this recipe used chopped chocolate. Other cooks of the time such as Sarah Tyson Rorer and Maria Parloa all made contributions to the development of the chocolate cake and were prolific authors of cookbooks.
URL:https://blackfoodie.com/event/chocolate-cake-day/
CATEGORIES:January
END:VEVENT
BEGIN:VEVENT
DTSTART;VALUE=DATE:20240126
DTEND;VALUE=DATE:20240127
DTSTAMP:20260423T125939
CREATED:20240124T034646Z
LAST-MODIFIED:20240124T034646Z
UID:11578477643232-1706227200-1706313599@blackfoodie.com
SUMMARY:National Pistachio Day
DESCRIPTION:National Pistachio Day is the time to celebrate this popular nut\, which happens to be native to the Middle Eastern areas of the globe\, including the areas that are now Turkey\, Syria\, Lebanon\, Afghanistan and even southern Russia. It is thought that pistachio nuts date back pretty far into human history. In fact\, they are believed to have been not only eaten by humans for at least 9000 years\, but they have become an interesting part of some cultures and traditions! \nThis day is dedicated to the delicious and nutritious pistachios\, a beloved snack that has been around for centuries. Originally from Iran\, this nut was introduced in California during the late 19th century and quickly became popular due to its unique flavor and health benefits.
URL:https://blackfoodie.com/event/national-pistachio-day/
CATEGORIES:January
END:VEVENT
BEGIN:VEVENT
DTSTART;VALUE=DATE:20240126
DTEND;VALUE=DATE:20240127
DTSTAMP:20260423T125939
CREATED:20240124T034548Z
LAST-MODIFIED:20240124T034548Z
UID:11578477643229-1706227200-1706313599@blackfoodie.com
SUMMARY:National Peanut Brittle Day
DESCRIPTION:National Peanut Brittle Day on January 26th recognizes a hard\, flat candy confection enjoyed worldwide. The candy’s buttery\, nutty texture makes for a delicious treat and can be made at home. \nSome people ascertain that the history of peanut brittle begins in the southern states of the USA\, which makes sense because that is where peanuts were first known to be cultivated.
URL:https://blackfoodie.com/event/national-peanut-brittle-day/
CATEGORIES:January
END:VEVENT
BEGIN:VEVENT
DTSTART;VALUE=DATE:20240125
DTEND;VALUE=DATE:20240126
DTSTAMP:20260423T125939
CREATED:20240124T034441Z
LAST-MODIFIED:20240124T034441Z
UID:11578477643227-1706140800-1706227199@blackfoodie.com
SUMMARY:National Irish Coffee Day
DESCRIPTION:National Irish Coffee Day is celebrated on January 25th. It’s a day to enjoy a mug of strong coffee\, Irish whiskey\, sugar\, and a layer of cream.  \nIrish Coffee\, or caife Gaelach in Irish\, dates back to 1943 when it was first invented by chef Joe Sheridan while working at Foynes airport near Limerick\, Ireland.
URL:https://blackfoodie.com/event/national-irish-coffee-day/
CATEGORIES:January
END:VEVENT
BEGIN:VEVENT
DTSTART;VALUE=DATE:20240124
DTEND;VALUE=DATE:20240125
DTSTAMP:20260423T125939
CREATED:20240124T034354Z
LAST-MODIFIED:20240124T034354Z
UID:11578477643225-1706054400-1706140799@blackfoodie.com
SUMMARY:National Peanut Butter Day
DESCRIPTION:National Peanut Butter Day on January 24th recognizes an American staple in our pantries. Whether creamy or chunky\, with chocolate or with jelly\, peanut butter gets the recognition it deserves each year on this day.  \nThen\, in 1903\, a peanut butter-making machine was patented by Dr. Ambrose Straub of St. Louis\, Missouri. As far as National Peanut Butter Day is concerned\, it seems that this auspicious occasion was created many years ago\, to allow peanut butter lovers to celebrate the creation of this wonderful food.
URL:https://blackfoodie.com/event/national-peanut-butter-day/
CATEGORIES:January
END:VEVENT
BEGIN:VEVENT
DTSTART;VALUE=DATE:20240123
DTEND;VALUE=DATE:20240124
DTSTAMP:20260423T125939
CREATED:20240124T034313Z
LAST-MODIFIED:20240124T034313Z
UID:11578477643222-1705968000-1706054399@blackfoodie.com
SUMMARY:Rhubarb Pie Day
DESCRIPTION:On June 9th of each year\, National Strawberry Rhubarb Pie Day recognizes a delicious and seasonal pie. A tart vegetable\, rhubarb is often paired with sweet fruits making for a pleasing dessert. \nJune 9th is the day that is celebrated for Strawberry-Rhubarb Pie. Rhuarb originated in Europe (Germany and UK)\, and introduced to the United States in the late 18th century.
URL:https://blackfoodie.com/event/rhubarb-pie-day/
CATEGORIES:January
END:VEVENT
BEGIN:VEVENT
DTSTART;VALUE=DATE:20240123
DTEND;VALUE=DATE:20240124
DTSTAMP:20260423T125939
CREATED:20240111T052756Z
LAST-MODIFIED:20240111T052756Z
UID:11578477642915-1705968000-1706054399@blackfoodie.com
SUMMARY:National Pie Day
DESCRIPTION:National Pie Day on January 23rd celebrates one of the Nations’ favorite desserts. No matter how you slice it\, pie in just about any form makes a crowd happy. Fruit pies\, berry pies\, cream pies – they are mouthwatering servings of homemade goodness.  \nOrigins: The American Pie Council created National Pie Day in 1986 to commemorate Crisco’s 75th anniversary of “serving foods to families everywhere.”
URL:https://blackfoodie.com/event/national-pie-day/
CATEGORIES:January
END:VEVENT
BEGIN:VEVENT
DTSTART;VALUE=DATE:20240122
DTEND;VALUE=DATE:20240123
DTSTAMP:20260423T125939
CREATED:20240124T034219Z
LAST-MODIFIED:20240124T034219Z
UID:11578477643220-1705881600-1705967999@blackfoodie.com
SUMMARY:National Blonde Brownie Day
DESCRIPTION:National Blonde Brownie Day on January 22nd recognizes a treat often referred to as blondies. Almost everyone knows that a blonde brownie is similar to a chocolate brownie. In place of cocoa\, bakers use brown sugar when making this delicious brownie\, giving it a sweet-tooth-satisfying molasses flavor! \nIt is known\, however\, that this light-colored treat was actually invented in Upper Sandusky\, Ohio. Recipes for blonde brownies can be found in recipe books dating back into the 1940s and maybe even earlier.
URL:https://blackfoodie.com/event/national-blonde-brownie-day/
CATEGORIES:January
END:VEVENT
BEGIN:VEVENT
DTSTART;VALUE=DATE:20240121
DTEND;VALUE=DATE:20240122
DTSTAMP:20260423T125939
CREATED:20240124T034108Z
LAST-MODIFIED:20240124T034108Z
UID:11578477643218-1705795200-1705881599@blackfoodie.com
SUMMARY:New England Clam Chowder Day
DESCRIPTION:National New England Clam Chowder Day is held on January 21 each year in the United States. There are many types of chowders\, but none can come close to the famous New England Clam Chowder. This type of chowder is a soup base made with milk or cream\, potatoes\, onions and\, of course\, clams. \nIt is believed that the first ever published recipe including clams in chowder was released in 1832 and that in 1836 it was first served in a public restaurant. Clam chowder as we know it was first served at this date by Union Oyster House\, the national oldest continuously operating restaurant located in Boston.
URL:https://blackfoodie.com/event/new-england-clam-chowder-day/
CATEGORIES:January
END:VEVENT
BEGIN:VEVENT
DTSTART;VALUE=DATE:20240121
DTEND;VALUE=DATE:20240122
DTSTAMP:20260423T125939
CREATED:20240124T034020Z
LAST-MODIFIED:20240124T034020Z
UID:11578477643215-1705795200-1705881599@blackfoodie.com
SUMMARY:National Granola Bar Day
DESCRIPTION:Each year on January 21st\, National Granola Bar Day recognizes the considerable nutrition and energy found in one wholesome granola bar. A basic granola bar includes whole grain (usually oats\, though quinoa and barley can be used as well)\, fruit or nuts and honey\, molasses\, agave nectar\, or syrup. The bar can also include butter or nut butter. Flavor and nutrition benefit from a variety of combinations. \nJames Caleb Jackson in Dansville\, New York\, as he was looking for a food for his health spa. A few years later\, John Harvey Kellogg worked to make granola more appealing for patients.
URL:https://blackfoodie.com/event/national-granola-bar-day/
CATEGORIES:January
END:VEVENT
BEGIN:VEVENT
DTSTART;VALUE=DATE:20240120
DTEND;VALUE=DATE:20240121
DTSTAMP:20260423T125939
CREATED:20240124T033929Z
LAST-MODIFIED:20240124T033929Z
UID:11578477643213-1705708800-1705795199@blackfoodie.com
SUMMARY:National Cheese Lover's Day
DESCRIPTION:On National Cheese Lover’s Day\, don’t feel bleu\, throw a feta or act capriciously. January 20th is a gouda day to kummin over and have some cheddar or asiago or fontina!  \nSo go ahead\, indulge in some cheese today and celebrate National Cheese Lover’s Day! Cheese is a food that has been around for thousands of years\, but the exact origins of its creation are not clear. However\, the earliest known record of pasteurizing cheese dates back to 5500 B.C. in what is now Poland.
URL:https://blackfoodie.com/event/national-cheese-lovers-day/
CATEGORIES:January
END:VEVENT
BEGIN:VEVENT
DTSTART;VALUE=DATE:20240120
DTEND;VALUE=DATE:20240121
DTSTAMP:20260423T125939
CREATED:20240124T033834Z
LAST-MODIFIED:20240124T033834Z
UID:11578477643210-1705708800-1705795199@blackfoodie.com
SUMMARY:National Buttercrunch Day
DESCRIPTION:National Buttercrunch Day on January 20th recognizes the flavorful toffee candy that comes in several varieties. \nNational Day Calendar continues researching the origins of this sweet and tasty food holiday.
URL:https://blackfoodie.com/event/national-buttercrunch-day/
CATEGORIES:January
END:VEVENT
BEGIN:VEVENT
DTSTART;VALUE=DATE:20240119
DTEND;VALUE=DATE:20240120
DTSTAMP:20260423T125939
CREATED:20240111T052615Z
LAST-MODIFIED:20240111T052648Z
UID:11578477642913-1705622400-1705708799@blackfoodie.com
SUMMARY:National Popcorn Day
DESCRIPTION:National Popcorn Day is a fun and delicious celebration of one of America’s favorite snacks—popcorn! Whether enjoyed at the movies\, as a crunchy snack\, or flavored with a variety of seasonings\, popcorn has been a beloved treat for generations. \nOrigins: The origins of National Popcorn Day are unknown. The National Popcorn Board created the holiday to celebrate the history and cultural importance of popcorn\, and to encourage people to enjoy it in all its forms. National Popcorn Day is celebrated on January 19th every year.
URL:https://blackfoodie.com/event/national-popcorn-day/
CATEGORIES:January
END:VEVENT
BEGIN:VEVENT
DTSTART;VALUE=DATE:20240118
DTEND;VALUE=DATE:20240119
DTSTAMP:20260423T125939
CREATED:20240124T033730Z
LAST-MODIFIED:20240124T033730Z
UID:11578477643208-1705536000-1705622399@blackfoodie.com
SUMMARY:Women's Healthy Weight Day
DESCRIPTION:Women’s Healthy Weight Day honors women of all sizes while challenging the media’s attention on slimness. It’s a day of positive body image for women\, applauding and embracing all body types as everyone’s size\, frame\, and biological characteristics differ. \nThough Women’s Healthy Weight Day is now an international affair\, it originated in the United States\, where weight loss and gain has a particular focus at the beginning of the calendar year.
URL:https://blackfoodie.com/event/womens-healthy-weight-day/
CATEGORIES:January
END:VEVENT
BEGIN:VEVENT
DTSTART;VALUE=DATE:20240118
DTEND;VALUE=DATE:20240119
DTSTAMP:20260423T125939
CREATED:20240124T033638Z
LAST-MODIFIED:20240124T033638Z
UID:11578477643206-1705536000-1705622399@blackfoodie.com
SUMMARY:Peking Duck Day
DESCRIPTION:National Peking Duck Day\, on January 18th\, recognizes the national dish of China. This dish is considered a delicacy due to its elaborate preparation and intense flavors. Since the Yuan Dynasty\, established by Kublai Khan\, Peking Duck’s roots are steeped in tradition that chefs have perfected over thousands of years. \nDating back as long as 700 years\, this dish has a rich history that comes from the Northern parts of China and it is specifically named after the city of Beijing.
URL:https://blackfoodie.com/event/peking-duck-day/
CATEGORIES:January
END:VEVENT
BEGIN:VEVENT
DTSTART;VALUE=DATE:20240117
DTEND;VALUE=DATE:20240118
DTSTAMP:20260423T125939
CREATED:20240124T033538Z
LAST-MODIFIED:20240124T033538Z
UID:11578477643204-1705449600-1705535999@blackfoodie.com
SUMMARY:National Hot Buttered Rum Day
DESCRIPTION:January 17 is National Hot Buttered Rum Day and it’s the perfect opportunity to give it a try. Hot buttered rum is a mixed drink containing rum\, butter\, hot water or cider\, sweetener\, and spices such as cinnamon\, nutmeg\, and cloves. It dates back to colonial America\, but likely originates from Europe. \nNational Hot Buttered Rum Day has a background that can be followed back to the mid 17th century when the alcoholic drink\, rum\, made its way from Jamaica to the United States. Not long after\, folks began adding it to drinks and using it in many different ways\, whether in cold drinks or hot ones.
URL:https://blackfoodie.com/event/national-hot-buttered-rum-day/
CATEGORIES:January
END:VEVENT
BEGIN:VEVENT
DTSTART;VALUE=DATE:20240117
DTEND;VALUE=DATE:20240118
DTSTAMP:20260423T125939
CREATED:20240124T033438Z
LAST-MODIFIED:20240124T033438Z
UID:11578477643202-1705449600-1705535999@blackfoodie.com
SUMMARY:National Bootlegger's Day
DESCRIPTION:Templeton Rye Whiskey shares its January 17th birthday with bootlegger Al Capone and the son of another bootlegger\, Meryl Kerkhoff.During the 1800s\, the term bootlegger came into use in the Midwest. The word described the act of concealing flasks of liquor in a boot top when going to trade with Native Americans. The term found its permanent place in the American vocabulary when Congress passed the Eighteenth Amendment prohibiting the manufacture\, transportation\, and sale of alcohol in 1920. \nThe first observance of National Bootlegger’s Day was in 2015\, instated by Infinium Spirits to celebrate the birth of Templeton Rye\, a whiskey distilled by farmers in Templeton\, Iowa\, during the heights of the prohibition.
URL:https://blackfoodie.com/event/national-bootleggers-day/
CATEGORIES:January
END:VEVENT
BEGIN:VEVENT
DTSTART;VALUE=DATE:20240116
DTEND;VALUE=DATE:20240117
DTSTAMP:20260423T125939
CREATED:20240124T033332Z
LAST-MODIFIED:20240124T033332Z
UID:11578477643200-1705363200-1705449599@blackfoodie.com
SUMMARY:Rid the World of Fad Diets & Gimmicks Day
DESCRIPTION:What is Rid the World of Fad Diets and Gimmicks Day? Rid the World of Fad Diets and Gimmicks Day is celebrated on the third Tuesday of January each year in the U.S. to widely promote proper weight management by exercising and eating healthy food. \nIn the mid-1800s\, the ideal masculine and feminine beauty gravitated toward thinness. Overweight romantics got the short end of the fashion stick as clothing became form-fitting for both sexes.From 1850 to 1920\, women’s dresses required a tiny laced-in waist. Men wore tights or breeches with tight-fitting jackets until close to the end of the 19th century when the vogue switched to looser pants. Being overweight was such a social handicap at the time that a book published in 1881 even suggested that governments arrest and imprison overweight people.
URL:https://blackfoodie.com/event/rid-the-world-of-fad-diets-gimmicks-day/
CATEGORIES:January
END:VEVENT
BEGIN:VEVENT
DTSTART;VALUE=DATE:20240116
DTEND;VALUE=DATE:20240117
DTSTAMP:20260423T125939
CREATED:20240124T033222Z
LAST-MODIFIED:20240124T033222Z
UID:11578477643198-1705363200-1705449599@blackfoodie.com
SUMMARY:National Fig Newton Day
DESCRIPTION:January 16 is National Fig Newton Day and we know you can’t wait to enjoy a few in celebration. Fig Newtons came into existence when\, in the 19th century\, physicians began to promote an increase in biscuits and fruit in one’s diet as a remedy for digestive problems. \nIn 1891\, they produced the first Fig Newtons baked at the F.A. Kennedy Steam Bakery. The company named the pastries after the town of Newton\, Massachusetts. After recently becoming associated\, the Kennedy Biscuit Company and the New York Biscuit company merged to form Nabisco.
URL:https://blackfoodie.com/event/national-fig-newton-day/
CATEGORIES:January
END:VEVENT
BEGIN:VEVENT
DTSTART;VALUE=DATE:20240116
DTEND;VALUE=DATE:20240117
DTSTAMP:20260423T125939
CREATED:20240124T033129Z
LAST-MODIFIED:20240124T033129Z
UID:11578477643196-1705363200-1705449599@blackfoodie.com
SUMMARY:International Hot & Spicy Food Day
DESCRIPTION:Each year on 16th January\, International Hot and Spicy Food Day allows lovers of heat and chilli to celebrate all things spicy. Around the world events take place to commemorate the day including chilli-eating challenges and cooking competitions. Hot spices have been used in recipes and cooking for over 6000 years. \n 
URL:https://blackfoodie.com/event/international-hot-spicy-food-day/
CATEGORIES:January
END:VEVENT
BEGIN:VEVENT
DTSTART;VALUE=DATE:20240115
DTEND;VALUE=DATE:20240116
DTSTAMP:20260423T125939
CREATED:20240124T033017Z
LAST-MODIFIED:20240124T033017Z
UID:11578477643194-1705276800-1705363199@blackfoodie.com
SUMMARY:Strawberry Ice Cream Day
DESCRIPTION:Each year\, National Strawberry Ice Cream Day on January 15th celebrates one of the choicest flavors of ice cream. All flavors of ice cream are recognized on July 1st. \nIt is believed that the ice cream flavor\, which is now popular around the world\, was invented in 1813 in the United States by First Lady Dolley Madison\, and it was served during her husband\, President James Madison’s second inaugural banquet at the White House.
URL:https://blackfoodie.com/event/strawberry-ice-cream-day/
CATEGORIES:January
END:VEVENT
BEGIN:VEVENT
DTSTART;VALUE=DATE:20240115
DTEND;VALUE=DATE:20240116
DTSTAMP:20260423T125939
CREATED:20240111T052457Z
LAST-MODIFIED:20240111T052457Z
UID:11578477642911-1705276800-1705363199@blackfoodie.com
SUMMARY:National Bagel Day
DESCRIPTION:U.S. National Bagel Day is January 15. Bagels have a history that is richer than your favorite cream cheese spread! These rounds of dough can be found just about anywhere: breakfast joints\, coffee shops\, supermarkets\, or even your kitchen pantry. \nOrigin: The first known written records about bagels appears in Krakow\, Poland which dictated that bagels should be gifted to women soon after childbirth. National Bagel Day is celebrated on January 15th every year. The holiday was originally celebrated on February 9th\, but was moved to January 15th in 2020 to avoid conflicting with National Pizza Day.
URL:https://blackfoodie.com/event/national-bagel-day/
CATEGORIES:January
END:VEVENT
BEGIN:VEVENT
DTSTART;VALUE=DATE:20240114
DTEND;VALUE=DATE:20240115
DTSTAMP:20260423T125939
CREATED:20240124T032931Z
LAST-MODIFIED:20240124T032931Z
UID:11578477643191-1705190400-1705276799@blackfoodie.com
SUMMARY:National Hot Pastrami Sandwich Day
DESCRIPTION:Pastrami lovers across the country look forward to their favorite sandwich on January 14th as they recognize National Hot Pastrami Sandwich Day. \nPopular delicatessen meat\, pastrami is usually made from beef. Others make their pastrami sandwich with pork\, mutton\, or turkey. Before refrigeration\, butchers originally created pastrami as a way to preserve meat. To make pastrami\, they placed the raw meat in brine. Then they partially dried it and seasoned it with various herbs and spices to be smoked and steamed. A wave of Romanian Jewish immigration introduced pastrami (pronounced pastróme)\, a Romanian specialty\, in the second half of the 19th century. Early English references used the spelling “pastrama” before the modified “pastrami” spelling was used. New York kosher butcher\, Sussman Volk earns credit for producing the first pastrami sandwich in 1887. He claimed to have gotten the recipe from a Romanian friend in exchange for storing his luggage. Due to the popularity of his sandwich\, Volk converted his butcher shop into a restaurant to sell pastrami sandwiches.
URL:https://blackfoodie.com/event/national-hot-pastrami-sandwich-day/
CATEGORIES:January
END:VEVENT
BEGIN:VEVENT
DTSTART;VALUE=DATE:20240113
DTEND;VALUE=DATE:20240114
DTSTAMP:20260423T125939
CREATED:20240124T032829Z
LAST-MODIFIED:20240124T032829Z
UID:11578477643189-1705104000-1705190399@blackfoodie.com
SUMMARY:National Peach Melba Day
DESCRIPTION:Another dessert brought to us by an internationally famous chef\, National Peach Melba Day offers a refreshing celebration on January 13th each year \nFrench chef Auguste Escoffier invented the elegant dessert back in 1892 or 1893\, depending on the source. He created the dessert with peaches\, vanilla ice cream\, and raspberry sauce while employed at the Savoy Hotel\, London. The dessert honored Australian soprano\, Nellie Melba. The chef was known for naming his creations after famous people. Three such recipes are celebrated on the calendar including National Melba Toast Day onMarch 23rd.
URL:https://blackfoodie.com/event/national-peach-melba-day/
CATEGORIES:January
END:VEVENT
BEGIN:VEVENT
DTSTART;VALUE=DATE:20240113
DTEND;VALUE=DATE:20240114
DTSTAMP:20260423T125939
CREATED:20240111T052123Z
LAST-MODIFIED:20240111T052123Z
UID:11578477642909-1705104000-1705190399@blackfoodie.com
SUMMARY:National Gluten-Free Day
DESCRIPTION:The purpose of establishing National Gluten Free Day was simply to help people understand the difficulty of what it is like to eat a gluten free diet\, to show compassion and care for those who have celiac disease or are gluten-intolerant. \nOrigin: Cassy Joy Garcia of Fed + Fit founded National Gluten-Free Day (NGFD) in 2014 to raise awareness about gluten-free living. The day is celebrated on the second Monday of January each year.
URL:https://blackfoodie.com/event/national-gluten-free-day/
CATEGORIES:January
END:VEVENT
BEGIN:VEVENT
DTSTART;VALUE=DATE:20240112
DTEND;VALUE=DATE:20240113
DTSTAMP:20260423T125939
CREATED:20240124T032735Z
LAST-MODIFIED:20240124T032735Z
UID:11578477643186-1705017600-1705103999@blackfoodie.com
SUMMARY:National Marzipan Day
DESCRIPTION:Marzipan\, a delicious and light treat made of a fairly unusual combination of sugar and almond meal\, often accented with almond extract. It has been used in all varieties of sweets and treats\, and manages to be both kosher and appropriate for Lent. Its excellent mutability makes it popular for themed cakes and confections\, as it can be molded into just about anything. During the rest of the year\, it’s often found served with chocolate\, making it a powerfully decadent treat that’s more than a little loved by its fans. \nWhile Persia is the most likely place for it to have found its start\, there is also ample evidence that Spain either developed a version of its own\, or was the actual starting place of this confectionary treat.
URL:https://blackfoodie.com/event/national-marzipan-day/
CATEGORIES:January
END:VEVENT
END:VCALENDAR