BEGIN:VCALENDAR
VERSION:2.0
PRODID:-//Black Foodie Finder - Hey Foodies - ECPv6.15.20//NONSGML v1.0//EN
CALSCALE:GREGORIAN
METHOD:PUBLISH
X-WR-CALNAME:Black Foodie Finder - Hey Foodies
X-ORIGINAL-URL:https://blackfoodie.com
X-WR-CALDESC:Events for Black Foodie Finder - Hey Foodies
REFRESH-INTERVAL;VALUE=DURATION:PT1H
X-Robots-Tag:noindex
X-PUBLISHED-TTL:PT1H
BEGIN:VTIMEZONE
TZID:UTC
BEGIN:STANDARD
TZOFFSETFROM:+0000
TZOFFSETTO:+0000
TZNAME:UTC
DTSTART:20230101T000000
END:STANDARD
END:VTIMEZONE
BEGIN:VEVENT
DTSTART;VALUE=DATE:20240225
DTEND;VALUE=DATE:20240226
DTSTAMP:20260423T143025
CREATED:20240124T043207Z
LAST-MODIFIED:20240124T043207Z
UID:11578477643307-1708819200-1708905599@blackfoodie.com
SUMMARY:National Pancake Day (IHOP)
DESCRIPTION:National Pancake Day is celebrated on February 28 this year. A thin flat cake prepared with a batter made from milk\, eggs\, flour\, and oil or butter\, the pancake and its variations are found in almost every culture. \nAlso known as Johnnycakes\, griddle cakes or hotcakes\, this batter-made breakfast item dates back more than 30\,000 years. In fact\, it may be the oldest breakfast food in history\, spanning as far back as the Stone Age and even found in the stomach of Otzi the Iceman\, whose human remains are estimated to be 5\,300 years old.
URL:https://blackfoodie.com/event/national-pancake-day-ihop/
CATEGORIES:February
END:VEVENT
BEGIN:VEVENT
DTSTART;VALUE=DATE:20240225
DTEND;VALUE=DATE:20240226
DTSTAMP:20260423T143025
CREATED:20240124T043115Z
LAST-MODIFIED:20240124T043115Z
UID:11578477643305-1708819200-1708905599@blackfoodie.com
SUMMARY:National Clam Chowder Day
DESCRIPTION:National Clam Chowder Day is a day all about celebrating the history of this beloved fish stew\, historical in its origins to the New England area and helped ultimately inspire creations such as the Manhatten clam chowder\, Rhode Island clam chowder\, and Long Island clam chowder.
URL:https://blackfoodie.com/event/national-clam-chowder-day/
CATEGORIES:February
END:VEVENT
BEGIN:VEVENT
DTSTART;VALUE=DATE:20240225
DTEND;VALUE=DATE:20240226
DTSTAMP:20260423T143025
CREATED:20240124T043025Z
LAST-MODIFIED:20240124T043025Z
UID:11578477643303-1708819200-1708905599@blackfoodie.com
SUMMARY:National Chocolate Covered Nuts Day
DESCRIPTION:National Chocolate-Covered Nut Day on February 25th recognizes the delicious and crunchy snack drizzled\, covered\, dunked\, or smothered in chocolate. The possibilities are endless with so many different types of nuts and chocolate combinations. \nThe exact origins of National Chocolate Covered Nut Day are unknown\, but it’s believed to have originated in the United States. The day is celebrated on February 25th.
URL:https://blackfoodie.com/event/national-chocolate-covered-nuts-day/
CATEGORIES:February
END:VEVENT
BEGIN:VEVENT
DTSTART;VALUE=DATE:20240224
DTEND;VALUE=DATE:20240225
DTSTAMP:20260423T143025
CREATED:20240129T111344Z
LAST-MODIFIED:20240129T111344Z
UID:11578477643333-1708732800-1708819199@blackfoodie.com
SUMMARY:National Tortilla Chip Day
DESCRIPTION:National Tortilla Chip Day on February 24th celebrates a crunchy chip that provides a multitude of ways to enjoy it! The day also shares the chip’s history and many ways to enjoy this delicious snack food. Everyone loves tortilla chips! We most commonly served them with salsa\, chile con queso\, guacamole\, cheese dips\, or other dips. Tortilla chips are made from corn tortillas cut into wedges and then fried. The tortillas are made from corn\, vegetable oil\, salt\, and water. Typically made with yellow corn\, tortillas can also be made with white\, blue\, or red corn. \nHonor the tortilla chip – the carrier of delicious dips – on February 24\, Tortilla Chip Day. Tortilla chips were first popularized as a way to reuse misshapen tortillas by Rebecca Webb Carranza whose family owned the Los Angeles-based El Zarape Tortilla Factory in the 1940s.
URL:https://blackfoodie.com/event/national-tortilla-chip-day-2/
CATEGORIES:February
END:VEVENT
BEGIN:VEVENT
DTSTART;VALUE=DATE:20240224
DTEND;VALUE=DATE:20240225
DTSTAMP:20260423T143025
CREATED:20240124T042925Z
LAST-MODIFIED:20240124T042925Z
UID:11578477643301-1708732800-1708819199@blackfoodie.com
SUMMARY:National Tortilla Chip Day
DESCRIPTION:National Tortilla Chip Day on February 24th celebrates a crunchy chip that provides a multitude of ways to enjoy it! The day also shares the chip’s history and many ways to enjoy this delicious snack food. Everyone loves tortilla chips! We most commonly served them with salsa\, chile con queso\, guacamole\, cheese dips\, or other dips. Tortilla chips are made from corn tortillas cut into wedges and then fried. The tortillas are made from corn\, vegetable oil\, salt\, and water. Typically made with yellow corn\, tortillas can also be made with white\, blue\, or red corn. \nHonor the tortilla chip – the carrier of delicious dips – on February 24\, Tortilla Chip Day. Tortilla chips were first popularized as a way to reuse misshapen tortillas by Rebecca Webb Carranza whose family owned the Los Angeles-based El Zarape Tortilla Factory in the 1940s.
URL:https://blackfoodie.com/event/national-tortilla-chip-day/
CATEGORIES:February
END:VEVENT
BEGIN:VEVENT
DTSTART;VALUE=DATE:20240223
DTEND;VALUE=DATE:20240224
DTSTAMP:20260423T143025
CREATED:20240129T111259Z
LAST-MODIFIED:20240129T111259Z
UID:11578477643331-1708646400-1708732799@blackfoodie.com
SUMMARY:National Banana Bread Day
DESCRIPTION:Bakers know that to make sweet and delicious banana bread\, they need to use fully ripe\, mashed bananas. The resulting quick bread is moist and almost cake-like. And while some recipes call for yeast\, most don’t. Either way\, the finished product makes a tasty sliced snack. Toast it and add butter for an even more satisfying treat! \nBananas made their way west from Asia by traveling with Arab conquerors as long ago as 300 BC\, and they have been growing in popularity every since. As it turns out\, the banana is the most popular fruit in the United Kingdom\, even though they are usually grown in warmer climates such as Asia\, Latin America and Africa. India is often named as the largest grower of bananas. From the time bananas started to become accepted and commonplace in the west\, it took a little while (several centuries\, in fact) for this tasty fruit to be made into banana bread as people know it today. Banana bread was likely first developed and started to become popular back in the 1930’s\, during the time of economic hardship in the United States known as the Great Depression.
URL:https://blackfoodie.com/event/national-banana-bread-day-2/
CATEGORIES:February
END:VEVENT
BEGIN:VEVENT
DTSTART;VALUE=DATE:20240223
DTEND;VALUE=DATE:20240224
DTSTAMP:20260423T143025
CREATED:20240124T042809Z
LAST-MODIFIED:20240124T042809Z
UID:11578477643299-1708646400-1708732799@blackfoodie.com
SUMMARY:National Banana Bread Day
DESCRIPTION:Bakers know that to make sweet and delicious banana bread\, they need to use fully ripe\, mashed bananas. The resulting quick bread is moist and almost cake-like. And while some recipes call for yeast\, most don’t. Either way\, the finished product makes a tasty sliced snack. Toast it and add butter for an even more satisfying treat! \nBananas made their way west from Asia by traveling with Arab conquerors as long ago as 300 BC\, and they have been growing in popularity every since. As it turns out\, the banana is the most popular fruit in the United Kingdom\, even though they are usually grown in warmer climates such as Asia\, Latin America and Africa. India is often named as the largest grower of bananas. From the time bananas started to become accepted and commonplace in the west\, it took a little while (several centuries\, in fact) for this tasty fruit to be made into banana bread as people know it today. Banana bread was likely first developed and started to become popular back in the 1930’s\, during the time of economic hardship in the United States known as the Great Depression.
URL:https://blackfoodie.com/event/national-banana-bread-day/
CATEGORIES:February
END:VEVENT
BEGIN:VEVENT
DTSTART;VALUE=DATE:20240222
DTEND;VALUE=DATE:20240223
DTSTAMP:20260423T143025
CREATED:20240129T111155Z
LAST-MODIFIED:20240129T111155Z
UID:11578477643329-1708560000-1708646399@blackfoodie.com
SUMMARY:National Cook a Sweet Potato Day
DESCRIPTION:National Cook a Sweet Potato Day is celebrated every year on February 22. This vegetable is loved and eaten by millions every day in the United States alone. Many times people confuse sweet potatoes with yams; however\, that’s not the case. Cultivars of the sweet potato bear tubers with flesh and skin of many colors. \nThe origin of National Cook a Sweet Potato Day is unknown\, but it’s likely that various cultures have been celebrating the food for centuries. The earliest print reference to the holiday is from 2015 in Wisconsin.
URL:https://blackfoodie.com/event/national-cook-a-sweet-potato-day-2/
CATEGORIES:February
END:VEVENT
BEGIN:VEVENT
DTSTART;VALUE=DATE:20240222
DTEND;VALUE=DATE:20240223
DTSTAMP:20260423T143025
CREATED:20240129T111054Z
LAST-MODIFIED:20240129T111054Z
UID:11578477643327-1708560000-1708646399@blackfoodie.com
SUMMARY:National Margarita Day
DESCRIPTION:National Margarita Day celebrates this marvelously-delicious drink\, and the rainbow of colors and flavors it comes in. While it might seem like just some ice cold tequila\, triple sec\, a little salt and a wedge of lime\, this beverage is so much more than the sum of its parts.In fact\, a version can be found for almost any occasion. From Roasted Blueberry Basil Margaritas to the far more punchy Strawberry Sriracha Margarita. From Smoked Mangonada to Spicy Grilled Pineapple—National Margarita Day is a perfect excuse to try them all! \nOne of them was Francisco “Pancho” Morales who was a bartender in Mexico\, who first mixed the cocktail in 1942 in Juárez\, Mexico and then left to become a US citizen and work as a milkman for 25 years. He has the backing of the official Mexican newspaper — Notimex.
URL:https://blackfoodie.com/event/national-margarita-day-2/
CATEGORIES:February
END:VEVENT
BEGIN:VEVENT
DTSTART;VALUE=DATE:20240222
DTEND;VALUE=DATE:20240223
DTSTAMP:20260423T143025
CREATED:20240124T042712Z
LAST-MODIFIED:20240124T042712Z
UID:11578477643297-1708560000-1708646399@blackfoodie.com
SUMMARY:National Cook a Sweet Potato Day
DESCRIPTION:National Cook a Sweet Potato Day is celebrated every year on February 22. This vegetable is loved and eaten by millions every day in the United States alone. Many times people confuse sweet potatoes with yams; however\, that’s not the case. Cultivars of the sweet potato bear tubers with flesh and skin of many colors. \nThe origin of National Cook a Sweet Potato Day is unknown\, but it’s likely that various cultures have been celebrating the food for centuries. The earliest print reference to the holiday is from 2015 in Wisconsin.
URL:https://blackfoodie.com/event/national-cook-a-sweet-potato-day/
CATEGORIES:February
END:VEVENT
BEGIN:VEVENT
DTSTART;VALUE=DATE:20240222
DTEND;VALUE=DATE:20240223
DTSTAMP:20260423T143025
CREATED:20240124T042604Z
LAST-MODIFIED:20240124T042604Z
UID:11578477643295-1708560000-1708646399@blackfoodie.com
SUMMARY:National Margarita Day
DESCRIPTION:National Margarita Day celebrates this marvelously-delicious drink\, and the rainbow of colors and flavors it comes in. While it might seem like just some ice cold tequila\, triple sec\, a little salt and a wedge of lime\, this beverage is so much more than the sum of its parts.In fact\, a version can be found for almost any occasion. From Roasted Blueberry Basil Margaritas to the far more punchy Strawberry Sriracha Margarita. From Smoked Mangonada to Spicy Grilled Pineapple—National Margarita Day is a perfect excuse to try them all! \nOne of them was Francisco “Pancho” Morales who was a bartender in Mexico\, who first mixed the cocktail in 1942 in Juárez\, Mexico and then left to become a US citizen and work as a milkman for 25 years. He has the backing of the official Mexican newspaper — Notimex.
URL:https://blackfoodie.com/event/national-margarita-day/
CATEGORIES:February
END:VEVENT
BEGIN:VEVENT
DTSTART;VALUE=DATE:20240221
DTEND;VALUE=DATE:20240222
DTSTAMP:20260423T143025
CREATED:20240129T110933Z
LAST-MODIFIED:20240129T110933Z
UID:11578477643325-1708473600-1708559999@blackfoodie.com
SUMMARY:National Sticky Bun Day
DESCRIPTION:National Sticky Bun Day on February 21st recognizes a delicious pastry that comes rolled up and dripping with a sweet\, sugary topping. They’re perfect with a hot cup of coffee in the morning or as an after-dinner sweet! \nSome historians say that they may have been around in the Western World since the Middle Ages\, when cinnamon became a more prominent spice in these regions. However\, one thing that is agreed on is that German settlers brought the sticky bun to Pennsylvania in the United States.
URL:https://blackfoodie.com/event/national-sticky-bun-day-2/
CATEGORIES:February
END:VEVENT
BEGIN:VEVENT
DTSTART;VALUE=DATE:20240221
DTEND;VALUE=DATE:20240222
DTSTAMP:20260423T143025
CREATED:20240124T042429Z
LAST-MODIFIED:20240124T042429Z
UID:11578477643293-1708473600-1708559999@blackfoodie.com
SUMMARY:National Sticky Bun Day
DESCRIPTION:National Sticky Bun Day on February 21st recognizes a delicious pastry that comes rolled up and dripping with a sweet\, sugary topping. They’re perfect with a hot cup of coffee in the morning or as an after-dinner sweet! \nSome historians say that they may have been around in the Western World since the Middle Ages\, when cinnamon became a more prominent spice in these regions. However\, one thing that is agreed on is that German settlers brought the sticky bun to Pennsylvania in the United States.
URL:https://blackfoodie.com/event/national-sticky-bun-day/
CATEGORIES:February
END:VEVENT
BEGIN:VEVENT
DTSTART;VALUE=DATE:20240220
DTEND;VALUE=DATE:20240221
DTSTAMP:20260423T143025
CREATED:20240129T110742Z
LAST-MODIFIED:20240129T110742Z
UID:11578477643323-1708387200-1708473599@blackfoodie.com
SUMMARY:National Cherry Pie Day
DESCRIPTION:Some pie lovers will be eating their favorite pie on February 20 during National Cherry Pie Day. Whether they eat it for breakfast\, lunch or supper or a slice at every meal depends on just how much they love cherry pie! \nNational Cherry Pie Day is celebrated on February 20th. The modern version of cherry pie is thought to have originated in Europe\, where cherries were a popular ingredient in desserts and sweet pastries. The dessert became popular in the United States in the 19th century\, with many American cookbooks featuring recipes for it.
URL:https://blackfoodie.com/event/national-cherry-pie-day-2/
CATEGORIES:February
END:VEVENT
BEGIN:VEVENT
DTSTART;VALUE=DATE:20240220
DTEND;VALUE=DATE:20240221
DTSTAMP:20260423T143025
CREATED:20240124T042102Z
LAST-MODIFIED:20240124T042102Z
UID:11578477643291-1708387200-1708473599@blackfoodie.com
SUMMARY:National Cherry Pie Day
DESCRIPTION:Some pie lovers will be eating their favorite pie on February 20 during National Cherry Pie Day. Whether they eat it for breakfast\, lunch or supper or a slice at every meal depends on just how much they love cherry pie! \nNational Cherry Pie Day is celebrated on February 20th. The modern version of cherry pie is thought to have originated in Europe\, where cherries were a popular ingredient in desserts and sweet pastries. The dessert became popular in the United States in the 19th century\, with many American cookbooks featuring recipes for it.
URL:https://blackfoodie.com/event/national-cherry-pie-day/
CATEGORIES:February
END:VEVENT
BEGIN:VEVENT
DTSTART;VALUE=DATE:20240220
DTEND;VALUE=DATE:20240221
DTSTAMP:20260423T143025
CREATED:20240111T054218Z
LAST-MODIFIED:20240111T054218Z
UID:11578477642936-1708387200-1708473599@blackfoodie.com
SUMMARY:National Muffin Day
DESCRIPTION:For the past nine years\, around National Muffin Day (which the food dictionary say falls on February 20)\, we’ve encouraged people to bake muffins and hand them out to people experiencing homelessness in their cities. \nOrigins: Jacob Kaufman\, a tech lawyer in San Francisco\, co-founded National Muffin Day. Kaufman started the holiday by handing out muffins to homeless people on his way to work every week for almost five years.
URL:https://blackfoodie.com/event/national-muffin-day/
CATEGORIES:February
END:VEVENT
BEGIN:VEVENT
DTSTART;VALUE=DATE:20240219
DTEND;VALUE=DATE:20240220
DTSTAMP:20260423T143025
CREATED:20240129T110614Z
LAST-MODIFIED:20240129T110614Z
UID:11578477643321-1708300800-1708387199@blackfoodie.com
SUMMARY:National Chocolate Mint Day
DESCRIPTION:Recognized by the US National Confectioners Association\, National Chocolate Mint Day is observed annually across the nation on February 19th. This holiday has been set aside for all the chocolate mint lovers to eat their favorite treats all day long. \nNational Day Calendar continues researching the origins of this minty celebration. While we do\, we’ll be sure to leave a chocolate mint on our pillow in the morning to inspire our search.
URL:https://blackfoodie.com/event/national-chocolate-mint-day-2/
CATEGORIES:February
END:VEVENT
BEGIN:VEVENT
DTSTART;VALUE=DATE:20240219
DTEND;VALUE=DATE:20240220
DTSTAMP:20260423T143025
CREATED:20240124T042008Z
LAST-MODIFIED:20240124T042008Z
UID:11578477643289-1708300800-1708387199@blackfoodie.com
SUMMARY:National Chocolate Mint Day
DESCRIPTION:Recognized by the US National Confectioners Association\, National Chocolate Mint Day is observed annually across the nation on February 19th. This holiday has been set aside for all the chocolate mint lovers to eat their favorite treats all day long. \nNational Day Calendar continues researching the origins of this minty celebration. While we do\, we’ll be sure to leave a chocolate mint on our pillow in the morning to inspire our search.
URL:https://blackfoodie.com/event/national-chocolate-mint-day/
CATEGORIES:February
END:VEVENT
BEGIN:VEVENT
DTSTART;VALUE=DATE:20240218
DTEND;VALUE=DATE:20240219
DTSTAMP:20260423T143025
CREATED:20240129T110512Z
LAST-MODIFIED:20240129T110512Z
UID:11578477643319-1708214400-1708300799@blackfoodie.com
SUMMARY:National Drink Wine Day
DESCRIPTION:Some historians report that people have been drinking wine since 6000 BC\, when agriculture cropped up in the region that became the country of Georgia in the early 11th Century. Today’s Georgia borders Armenia and Turkey to the South and Russia to the North \nThe oldest known winery was found in a cave in Armenia\, and is over 4\,000 years old — The vinters there were using a grape still used to make wine today! Barrels of wine have been found in the tombs of Egyptian Pharaohs\, and the Ancient Greeks used wine in secret religious ceremonies.
URL:https://blackfoodie.com/event/national-drink-wine-day-2/
CATEGORIES:February
END:VEVENT
BEGIN:VEVENT
DTSTART;VALUE=DATE:20240218
DTEND;VALUE=DATE:20240219
DTSTAMP:20260423T143025
CREATED:20240111T054111Z
LAST-MODIFIED:20240111T054111Z
UID:11578477642934-1708214400-1708300799@blackfoodie.com
SUMMARY:National Drink Wine Day
DESCRIPTION:Some historians report that people have been drinking wine since 6000 BC\, when agriculture cropped up in the region that became the country of Georgia in the early 11th Century. Today’s Georgia borders Armenia and Turkey to the South and Russia to the North \nOrigins: The oldest known winery was found in a cave in Armenia\, and is over 4\,000 years old — The vinters there were using a grape still used to make wine today! Barrels of wine have been found in the tombs of Egyptian Pharaohs\, and the Ancient Greeks used wine in secret religious ceremonies.
URL:https://blackfoodie.com/event/national-drink-wine-day/
CATEGORIES:February
END:VEVENT
BEGIN:VEVENT
DTSTART;VALUE=DATE:20240217
DTEND;VALUE=DATE:20240218
DTSTAMP:20260423T143025
CREATED:20240129T110328Z
LAST-MODIFIED:20240129T110328Z
UID:11578477643316-1708128000-1708214399@blackfoodie.com
SUMMARY:National Indian Pudding Day
DESCRIPTION:National Indian Pudding Day is observed each year on November 13. This day honors a cold-weather classic\, Indian pudding. It was in the seventeenth century that English colonists brought hasty pudding to North America and completely transformed it. \nThe dish has its origins in 16th century England where a similar version was made called “Hasty Pudding.” 17th-century colonists brought the hasty pudding recipe to the Americas and quickly found that an integral ingredient\, wheat\, was not as readily available in this new land.
URL:https://blackfoodie.com/event/national-indian-pudding-day-2/
CATEGORIES:February
END:VEVENT
BEGIN:VEVENT
DTSTART;VALUE=DATE:20240217
DTEND;VALUE=DATE:20240218
DTSTAMP:20260423T143025
CREATED:20240124T041911Z
LAST-MODIFIED:20240124T041911Z
UID:11578477643287-1708128000-1708214399@blackfoodie.com
SUMMARY:National Indian Pudding Day
DESCRIPTION:National Indian Pudding Day is observed each year on November 13. This day honors a cold-weather classic\, Indian pudding. It was in the seventeenth century that English colonists brought hasty pudding to North America and completely transformed it. \nThe dish has its origins in 16th century England where a similar version was made called “Hasty Pudding.” 17th-century colonists brought the hasty pudding recipe to the Americas and quickly found that an integral ingredient\, wheat\, was not as readily available in this new land.
URL:https://blackfoodie.com/event/national-indian-pudding-day/
CATEGORIES:February
END:VEVENT
BEGIN:VEVENT
DTSTART;VALUE=DATE:20240216
DTEND;VALUE=DATE:20240217
DTSTAMP:20260423T143025
CREATED:20240129T110231Z
LAST-MODIFIED:20240129T110231Z
UID:11578477643314-1708041600-1708127999@blackfoodie.com
SUMMARY:National Tartar Sauce Day
DESCRIPTION:Fabulous for dunking fries\, fritters\, and battered appetizers\, tartar sauce adds a zesty tang to fried foods. When used as a sauce\, it adds a creamy brightness to fish\, chicken\, and beef recipes. As a marinade\, it’s excellent for grilling\, too. Mix it into a pasta or potato salad. Add it to steamed vegetables\, and tartar sauce completes a meal \nNational Tartar Sauce Day was founded in 2017 by Frisch’s Big Boy\, a chain of classic restaurants in the American Midwest. The restaurant established the day in celebration of the sauce that pairs so well with fish\, which is eaten in larger quantities during this time of year.
URL:https://blackfoodie.com/event/national-tartar-sauce-day-2/
CATEGORIES:February
END:VEVENT
BEGIN:VEVENT
DTSTART;VALUE=DATE:20240216
DTEND;VALUE=DATE:20240217
DTSTAMP:20260423T143025
CREATED:20240129T110135Z
LAST-MODIFIED:20240129T110135Z
UID:11578477643312-1708041600-1708127999@blackfoodie.com
SUMMARY:National Almond Day
DESCRIPTION:On February 16th each year\, National Almond Day recognizes the versatile and healthful almond. This delicious nut is native to the Middle East and thrives in warm\, dry climates with mild winters. The day celebrates the benefits and uses of almonds. \nAlthough their first place of origin is debated\, almonds were thought to have first been cultivated in China and Central Asia. While traveling the Silk Road between Asia and the Mediterranean\, explorers were said to snack on almonds during the long travel times.
URL:https://blackfoodie.com/event/national-almond-day-2/
CATEGORIES:February
END:VEVENT
BEGIN:VEVENT
DTSTART;VALUE=DATE:20240216
DTEND;VALUE=DATE:20240217
DTSTAMP:20260423T143025
CREATED:20240124T041822Z
LAST-MODIFIED:20240124T041822Z
UID:11578477643285-1708041600-1708127999@blackfoodie.com
SUMMARY:National Tartar Sauce Day
DESCRIPTION:Fabulous for dunking fries\, fritters\, and battered appetizers\, tartar sauce adds a zesty tang to fried foods. When used as a sauce\, it adds a creamy brightness to fish\, chicken\, and beef recipes. As a marinade\, it’s excellent for grilling\, too. Mix it into a pasta or potato salad. Add it to steamed vegetables\, and tartar sauce completes a meal \nNational Tartar Sauce Day was founded in 2017 by Frisch’s Big Boy\, a chain of classic restaurants in the American Midwest. The restaurant established the day in celebration of the sauce that pairs so well with fish\, which is eaten in larger quantities during this time of year.
URL:https://blackfoodie.com/event/national-tartar-sauce-day/
CATEGORIES:February
END:VEVENT
BEGIN:VEVENT
DTSTART;VALUE=DATE:20240216
DTEND;VALUE=DATE:20240217
DTSTAMP:20260423T143025
CREATED:20240124T041736Z
LAST-MODIFIED:20240124T041736Z
UID:11578477643283-1708041600-1708127999@blackfoodie.com
SUMMARY:National Almond Day
DESCRIPTION:On February 16th each year\, National Almond Day recognizes the versatile and healthful almond. This delicious nut is native to the Middle East and thrives in warm\, dry climates with mild winters. The day celebrates the benefits and uses of almonds. \nAlthough their first place of origin is debated\, almonds were thought to have first been cultivated in China and Central Asia. While traveling the Silk Road between Asia and the Mediterranean\, explorers were said to snack on almonds during the long travel times.
URL:https://blackfoodie.com/event/national-almond-day/
CATEGORIES:February
END:VEVENT
BEGIN:VEVENT
DTSTART;VALUE=DATE:20240215
DTEND;VALUE=DATE:20240216
DTSTAMP:20260423T143025
CREATED:20240124T041555Z
LAST-MODIFIED:20240124T041555Z
UID:11578477643281-1707955200-1708041599@blackfoodie.com
SUMMARY:National Gumdrop Day
DESCRIPTION:February 15 is Gumdrop Day. Celebrate this day by treating yourself to a bowlful of the colorful\, chewy\, and delicious candy. Gumdrops come in many flavors and colors. This unofficial and fun holiday is also called National Gumdrop Day in the United States. \nDebates abound as to the history of gumdrops. Some credit Percy Trusdale as the inventor of gumdrops in 1801. The term ‘gumdrop’ was first seen in an Illinois newspaper mentioning a local candy shop owner\, George Julier\, in the 1850s.
URL:https://blackfoodie.com/event/national-gumdrop-day/
CATEGORIES:February
END:VEVENT
BEGIN:VEVENT
DTSTART;VALUE=DATE:20240214
DTEND;VALUE=DATE:20240215
DTSTAMP:20260423T143025
CREATED:20240124T041452Z
LAST-MODIFIED:20240124T041452Z
UID:11578477643279-1707868800-1707955199@blackfoodie.com
SUMMARY:National Cream-Filled Chocolates Day
DESCRIPTION:Chocolate lovers rejoice as February 14th is National Cream-Filled Chocolates Day! On the same day\, approximately 58 million pounds of chocolate will be purchased. Much of it will be in heart-shaped boxes\, filled with bite-sized chocolates with ooey\, gooey centers. \nThe first cream-filled chocolates as we know them today were believed to be created in 1912 by Jean Neuhaus II\, a Belgian chocolatier.
URL:https://blackfoodie.com/event/national-cream-filled-chocolates-day/
CATEGORIES:February
END:VEVENT
BEGIN:VEVENT
DTSTART;VALUE=DATE:20240213
DTEND;VALUE=DATE:20240214
DTSTAMP:20260423T143025
CREATED:20240124T041109Z
LAST-MODIFIED:20240124T041109Z
UID:11578477643277-1707782400-1707868799@blackfoodie.com
SUMMARY:National Tortellini Day
DESCRIPTION:Tortellini is a signature dish from the Italian region of Bologna\, where they claim to have created this stuffed pasta packed with flavor. Ravioli\, tortellini\, and tortellacci are all part of the same family of stuffed pasta. The most common fillings for tortellini are ham\, white meat\, and Parmesan cheese. \nThis Italian dish is favorite worldwide. It can be also served as a part of soup\, that makes the dish even better. There is a nice legend about the origin of tortellini. Goddess Venus stayed in a tavern on the outskirts of Bologna\, the city where tortellini originate.
URL:https://blackfoodie.com/event/national-tortellini-day/
CATEGORIES:February
END:VEVENT
BEGIN:VEVENT
DTSTART;VALUE=DATE:20240212
DTEND;VALUE=DATE:20240213
DTSTAMP:20260423T143025
CREATED:20240129T110034Z
LAST-MODIFIED:20240129T110034Z
UID:11578477643310-1707696000-1707782399@blackfoodie.com
SUMMARY:National Plum Pudding Day
DESCRIPTION:Also known as Christmas pudding\, National Plum Pudding Day celebrates a traditional holiday dessert. On February 12th\, learn about this tasty treat with an interesting history. \nPlum Pudding\, also called Christmas Pudding\, as a Christmas tradition was born in Medieval England when families would make their pudding four to five weeks before Christmas Day.
URL:https://blackfoodie.com/event/national-plum-pudding-day-2/
CATEGORIES:February
END:VEVENT
END:VCALENDAR