BEGIN:VCALENDAR
VERSION:2.0
PRODID:-//Black Foodie Finder - Hey Foodies - ECPv6.15.20//NONSGML v1.0//EN
CALSCALE:GREGORIAN
METHOD:PUBLISH
X-WR-CALNAME:Black Foodie Finder - Hey Foodies
X-ORIGINAL-URL:https://blackfoodie.com
X-WR-CALDESC:Events for Black Foodie Finder - Hey Foodies
REFRESH-INTERVAL;VALUE=DURATION:PT1H
X-Robots-Tag:noindex
X-PUBLISHED-TTL:PT1H
BEGIN:VTIMEZONE
TZID:UTC
BEGIN:STANDARD
TZOFFSETFROM:+0000
TZOFFSETTO:+0000
TZNAME:UTC
DTSTART:20230101T000000
END:STANDARD
END:VTIMEZONE
BEGIN:VEVENT
DTSTART;VALUE=DATE:20241221
DTEND;VALUE=DATE:20241222
DTSTAMP:20260423T130049
CREATED:20240113T014324Z
LAST-MODIFIED:20240113T014324Z
UID:11578477643113-1734739200-1734825599@blackfoodie.com
SUMMARY:National Hamburger Day
DESCRIPTION:Origin: With new found success with their beef sandwich\, they named it the “hamburger” after the Erie County Fair’s home town of Hamburg\, New York. “National Birth of the Burger Day” is celebrated on September 18 to honor the invention of the burger in 1885 at the Hamburg Fair.
URL:https://blackfoodie.com/event/national-hamburger-day/
CATEGORIES:December
END:VEVENT
BEGIN:VEVENT
DTSTART;VALUE=DATE:20241217
DTEND;VALUE=DATE:20241218
DTSTAMP:20260423T130049
CREATED:20240113T013749Z
LAST-MODIFIED:20240113T013749Z
UID:11578477643111-1734393600-1734479999@blackfoodie.com
SUMMARY:National Maple Syrup Day
DESCRIPTION:Many people\, even lovers of this delicious liquid gold\, don’t know maple syrup has its own day dedicated to learning about and celebrating it! So\, before delving into the history of and the most popular thing to put on pancakes\, waffles\, French toast and more\, it’s probably a good idea to take a moment to thank the maple trees for the sap that becomes the sweet syrup that everyone knows and loves today! That’s the whole focus of National Maple Syrup Day! \nOrigin: National Maple Syrup Day was created to celebrate the amber substance people have all come to know and love. Much of the maple syrup that most people experience today is almost always manufactured in Canada\, but even the United States has its own maple syrup production area–mostly surrounding the northeastern states\, such as Vermont\, but also other northern states\, like Michigan.
URL:https://blackfoodie.com/event/national-maple-syrup-day/
CATEGORIES:December
END:VEVENT
BEGIN:VEVENT
DTSTART;VALUE=DATE:20241214
DTEND;VALUE=DATE:20241215
DTSTAMP:20260423T130049
CREATED:20240113T013638Z
LAST-MODIFIED:20240113T013638Z
UID:11578477643109-1734134400-1734220799@blackfoodie.com
SUMMARY:National Bouillabaisse Day
DESCRIPTION:National Bouillabaisse Day on December 14th gives seafood lovers everywhere a reason to celebrate. This flavorful fish stew hits the spot on cold winter’s day\, too. The French are known for many great recipes. Their food inspires travel to France for a taste of authentic dishes. Bouillabaisse tops the list of must-have cuisine while visiting France. The tasty stew originates in the port city of Marseille. It is traditionally made using bony rockfish\, saffron\, fennel seed\, and orange zest. \nOrigin: Get ready to indulge in a delicious seafood stew on National Bouillabaisse Day on December 14! This traditional French dish has been enjoyed for centuries\, originating in the port city of Marseille.
URL:https://blackfoodie.com/event/national-bouillabaisse-day/
CATEGORIES:December
END:VEVENT
BEGIN:VEVENT
DTSTART;VALUE=DATE:20241209
DTEND;VALUE=DATE:20241210
DTSTAMP:20260423T130049
CREATED:20240113T013408Z
LAST-MODIFIED:20240113T013408Z
UID:11578477643107-1733702400-1733788799@blackfoodie.com
SUMMARY:National Pastry Day
DESCRIPTION:National Pastry Day celebrates one of the world’s most favored baked goods. On December 9th\, visit your local bakery and pick up one or two of your favorite kinds. The pastry is a name given to a large variety of baked goods which are made with ingredients such as flour\, sugar\, milk\, butter\, shortening\, baking powder\, and eggs. Pastry dough is rolled out thinly and then used as a base for different baked products. A few of the more common bakery items include pies\, tarts\, quiches\, and pasties. Bakers create both savory and sweet dishes from the doughs they create. Additionally\, they continue to develop new and delicious creations all the time! \nOrigin: According to CooksInfo\, the first mention of National Pastry Day was in 1995 in California. The holiday has been around since the mid-1990s. It is celebrated on December 9th.
URL:https://blackfoodie.com/event/national-pastry-day/
CATEGORIES:December
END:VEVENT
BEGIN:VEVENT
DTSTART;VALUE=DATE:20241208
DTEND;VALUE=DATE:20241209
DTSTAMP:20260423T130049
CREATED:20240113T013043Z
LAST-MODIFIED:20240113T013107Z
UID:11578477643105-1733616000-1733702399@blackfoodie.com
SUMMARY:National Comfort Food Day
DESCRIPTION:Brownies: that rich\, decadent\, purely hedonistic blend of cake and cookie that feels amazing in the mouth and leaves the taste buds craving more. While the classic brownie still reigns supreme\, now there are what seems like a million different derivations of how to make these delicious treats\, but there’s one thing they all have in common. Levels of chocolate so thick and rich they should be illegal! \nOrigin: The first brownies ever made set the bar for the grand indulgence that was to follow. Created for a ladies’ fair luncheon in the late 1800’s\, the first variety of these was found bedecked in an apricot glaze and inundated with delicious walnuts. To this day the Palmer House Hotel in Chicago serves the same recipe as that served to these ladies well over a hundred years ago
URL:https://blackfoodie.com/event/national-comfort-food-day/
CATEGORIES:December
END:VEVENT
BEGIN:VEVENT
DTSTART;VALUE=DATE:20241204
DTEND;VALUE=DATE:20241205
DTSTAMP:20260423T130049
CREATED:20240113T012742Z
LAST-MODIFIED:20240113T012742Z
UID:11578477643103-1733270400-1733356799@blackfoodie.com
SUMMARY:National Cookie Day
DESCRIPTION:National Cookie Day on December 4th serves up a sweet treat. Bakers across the country warm up the ovens for holiday baking\, and we enjoy giving tins of cookies to friends and family all season long.  \nOrigin: The history of National Cookie Day begins in San Francisco in 1987 when Matt Nader of the Blue Chip Cookie Company decided to create the day. He had an obvious inclination towards cookies and drew inspiration from National Secretaries Day.
URL:https://blackfoodie.com/event/national-cookie-day/
CATEGORIES:December
END:VEVENT
BEGIN:VEVENT
DTSTART;VALUE=DATE:20241202
DTEND;VALUE=DATE:20241203
DTSTAMP:20260423T130049
CREATED:20240113T012625Z
LAST-MODIFIED:20240113T012625Z
UID:11578477643101-1733097600-1733183999@blackfoodie.com
SUMMARY:National Fritters Day
DESCRIPTION:Fritters come in various forms\, from morsels dipped in flavorful batters to bits of dough stuffed or filled with delicious surprises. All of the varieties are deep-fried and served hot with dips\, drips\, or dustings of seasonings\, sweets\, or sauces. Cultures all over the world make some kind of fritter. May believe Ancient Romans first consumed fritters. They then introduced them to Europe. Most commonly filled with fruit or cheese\, fritters can also be filled with savory meats\, seafood\, and vegetables. \nOrigin: The first recorded mention of fritters was in 1665\, when Samuel Pepys\, a British Member of Parliament\, wrote in his diary that he would be enjoying some fritters before Lent.
URL:https://blackfoodie.com/event/national-fritters-day/
CATEGORIES:December
END:VEVENT
END:VCALENDAR