BEGIN:VCALENDAR
VERSION:2.0
PRODID:-//Black Foodie Finder - Hey Foodies - ECPv6.15.20//NONSGML v1.0//EN
CALSCALE:GREGORIAN
METHOD:PUBLISH
X-ORIGINAL-URL:https://blackfoodie.com
X-WR-CALDESC:Events for Black Foodie Finder - Hey Foodies
REFRESH-INTERVAL;VALUE=DURATION:PT1H
X-Robots-Tag:noindex
X-PUBLISHED-TTL:PT1H
BEGIN:VTIMEZONE
TZID:UTC
BEGIN:STANDARD
TZOFFSETFROM:+0000
TZOFFSETTO:+0000
TZNAME:UTC
DTSTART:20230101T000000
END:STANDARD
END:VTIMEZONE
BEGIN:VEVENT
DTSTART;VALUE=DATE:20240831
DTEND;VALUE=DATE:20240901
DTSTAMP:20260423T125937
CREATED:20240112T061336Z
LAST-MODIFIED:20240112T061336Z
UID:11578477643046-1725062400-1725148799@blackfoodie.com
SUMMARY:National Eat Outside Day
DESCRIPTION:Friends\, fresh air\, and good food are the focus of National Eat Outside Day every year on August 31. Whether at home\, a park\, a favorite restaurant or food truck\, or the beach\, food just tastes better when we eat it under the open sky. \nOrigin: During the 17th century\, beer gardens were created in Bavaria\, which is now Germany. It is likely that picnics later became popular in the United States some time in the 18th century when settlers would host parties in their private “pleasure gardens”.
URL:https://blackfoodie.com/event/national-eat-outside-day/
CATEGORIES:August
END:VEVENT
BEGIN:VEVENT
DTSTART;VALUE=DATE:20240827
DTEND;VALUE=DATE:20240828
DTSTAMP:20260423T125937
CREATED:20240112T061039Z
LAST-MODIFIED:20240112T061039Z
UID:11578477643044-1724716800-1724803199@blackfoodie.com
SUMMARY:National Burger Day
DESCRIPTION:National Burger Day (or as some call it National Hamburger Day) celebrates the most popular sandwich in America. According to some\, the hamburger was created in America in 1900 by Louis Lassen\, a Danish immigrant\, who owned “Louis’ Lunch” in New Haven\, Connecticut.
URL:https://blackfoodie.com/event/national-burger-day/
CATEGORIES:August
END:VEVENT
BEGIN:VEVENT
DTSTART;VALUE=DATE:20240819
DTEND;VALUE=DATE:20240820
DTSTAMP:20260423T125937
CREATED:20240112T060503Z
LAST-MODIFIED:20240112T060503Z
UID:11578477643042-1724025600-1724111999@blackfoodie.com
SUMMARY:National Potato Day
DESCRIPTION:Potato chips\, hash-browns\, baked potatoes\, home fries\, mashed potatoes\, and tater skins are just some of the incredibly delicious things you can make with potatoes. The potato is an unusual little tuber that has played an important role in the history of the world and was\, in fact\, the primary food crop for an entire nation. National Potato Day celebrates this wonderful tuber and all the things you can use it for. What’s your favorite potato treat? \nOrigin: Potatoes were first cultivated by man in Southern Peru and the Northwest regions of Bolivia sometime between 5000 and 8000 BC. From that point forward it has spread all over the globe to become one of the primary staple crops of many cultures. Potatoes are a favorite part of American cuisine\, with millions of different forms of preparation to be found. Potatoes are even used to make bread\, rolls\, and pancakes\, and as such can be found in every meal of the day.
URL:https://blackfoodie.com/event/national-potato-day/
CATEGORIES:August
END:VEVENT
BEGIN:VEVENT
DTSTART;VALUE=DATE:20240819
DTEND;VALUE=DATE:20240820
DTSTAMP:20260423T125937
CREATED:20240112T060312Z
LAST-MODIFIED:20240112T060312Z
UID:11578477643040-1724025600-1724111999@blackfoodie.com
SUMMARY:National Hot and Spicy Day
DESCRIPTION:National Hot and Spicy Food Day is August 19. This day is dedicated to Hot and Spicy Food. From hot sauce to hot spices\, if you are a spice lover\, this is your day. Incorporating a little heat in your diet amplifies the flavor of the food too.
URL:https://blackfoodie.com/event/national-hot-and-spicy-day/
CATEGORIES:August
END:VEVENT
BEGIN:VEVENT
DTSTART;VALUE=DATE:20240816
DTEND;VALUE=DATE:20240817
DTSTAMP:20260423T125937
CREATED:20240112T060123Z
LAST-MODIFIED:20240112T060123Z
UID:11578477643038-1723766400-1723852799@blackfoodie.com
SUMMARY:National Rum Day
DESCRIPTION:August 16 is National Rum Day! \nOrigin: National Rum Day originated in the West Indies. It is first mentioned in records from Barbados around 1650\, where African slaves brought to the Caribbean to work in sugarcane plantations first distilled it from molasses.
URL:https://blackfoodie.com/event/national-rum-day/
CATEGORIES:August
END:VEVENT
BEGIN:VEVENT
DTSTART;VALUE=DATE:20240811
DTEND;VALUE=DATE:20240812
DTSTAMP:20260423T125937
CREATED:20240112T055732Z
LAST-MODIFIED:20240112T055732Z
UID:11578477643036-1723334400-1723420799@blackfoodie.com
SUMMARY:National Panini Day
DESCRIPTION:National Panini Month is the perfect time to celebrate the hot\, melty sandwich on a beautiful August day. Panini is derived from Italian origin and is basically a grilled sandwich made with non-sliced bread. National Panini Month is an opportunity to break the regular old sandwich habit and panini away! \nOrigin: A precursor of panini appeared in a 16th-century Italian cookbook but didn’t become popular 1970s and 1980s. In the 1980s young Italian hipster types who hung out in coffee-and-panini bars were known as “paninari.” The paninari revolted against the drabness of urban culture with colorful Italian fashion and a taste for fast food and “caferacer” motorcycles. Based in Milan\, the paninaro craze spread across Italy. The British pop group Pet Shop Boys even recorded a song\, Paniniaro\, celebrating the paninari culture.
URL:https://blackfoodie.com/event/national-panini-day/
CATEGORIES:August
END:VEVENT
BEGIN:VEVENT
DTSTART;VALUE=DATE:20240808
DTEND;VALUE=DATE:20240809
DTSTAMP:20260423T125937
CREATED:20240112T055518Z
LAST-MODIFIED:20240112T055518Z
UID:11578477643034-1723075200-1723161599@blackfoodie.com
SUMMARY:National Frozen Custard Day
DESCRIPTION:National Frozen Custard Day is celebrated annually on August 8. Frozen custard is a dessert that’s similar to ice cream but has a smooth texture and more sugar. It’s made with eggs\, cream\, sugar\, and flavorings\, and is often prepared fresh at the place of sale. \nOrigin: Milwaukee\, Wisconsin was the place where many iconic shops opened in the 1930-40s\, making the city the unofficial “Frozen Custard Capital of the World”.
URL:https://blackfoodie.com/event/national-frozen-custard-day/
CATEGORIES:August
END:VEVENT
BEGIN:VEVENT
DTSTART;VALUE=DATE:20240805
DTEND;VALUE=DATE:20240806
DTSTAMP:20260423T125937
CREATED:20240112T055404Z
LAST-MODIFIED:20240112T055404Z
UID:11578477643032-1722816000-1722902399@blackfoodie.com
SUMMARY:National Oyster Day
DESCRIPTION:This special day is National Oyster Day\, a holiday dedicated to celebrating these bivalve mollusks. Whether you regularly order oysters or only treat yourself to this delicious seafood on occasion\, be sure that you make a point of ordering a great oyster dish on Sunday. \nOrigin: The exact origins of National Oyster Day are unknown. However\, the holiday has been celebrated for centuries\, dating back to Ancient Roman times when oysters were a luxury for the wealthy. In the 19th century\, New York harbor was the world’s largest producer of oysters\, and the city’s restaurant trade is largely due to oysters.
URL:https://blackfoodie.com/event/national-oyster-day/
CATEGORIES:August
END:VEVENT
BEGIN:VEVENT
DTSTART;VALUE=DATE:20240803
DTEND;VALUE=DATE:20240804
DTSTAMP:20260423T125937
CREATED:20240112T055203Z
LAST-MODIFIED:20240112T055203Z
UID:11578477643030-1722643200-1722729599@blackfoodie.com
SUMMARY:National Watermelon Day
DESCRIPTION:National Watermelon Day is celebrated on August 3. On this day\, people across the world celebrate the delicious and refreshing fruit that has a long history dating back to Ancient Egypt. \nOrigin: National Watermelon Day is celebrated on August 3. On this day\, people across the world celebrate the delicious and refreshing fruit that has a long history dating back to Ancient Egypt.
URL:https://blackfoodie.com/event/national-watermelon-day/
CATEGORIES:August
END:VEVENT
END:VCALENDAR